BEGIN:VCALENDAR
VERSION:2.0
PRODID:-//Abá e.V. aba-ev.org - ECPv6.15.12.2//NONSGML v1.0//EN
CALSCALE:GREGORIAN
METHOD:PUBLISH
X-WR-CALNAME:Abá e.V. aba-ev.org
X-ORIGINAL-URL:https://aba-ev.org
X-WR-CALDESC:Veranstaltungen für Abá e.V. aba-ev.org
REFRESH-INTERVAL;VALUE=DURATION:PT1H
X-Robots-Tag:noindex
X-PUBLISHED-TTL:PT1H
BEGIN:VTIMEZONE
TZID:Europe/Berlin
BEGIN:DAYLIGHT
TZOFFSETFROM:+0100
TZOFFSETTO:+0200
TZNAME:CEST
DTSTART:20250330T010000
END:DAYLIGHT
BEGIN:STANDARD
TZOFFSETFROM:+0200
TZOFFSETTO:+0100
TZNAME:CET
DTSTART:20251026T010000
END:STANDARD
BEGIN:DAYLIGHT
TZOFFSETFROM:+0100
TZOFFSETTO:+0200
TZNAME:CEST
DTSTART:20260329T010000
END:DAYLIGHT
BEGIN:STANDARD
TZOFFSETFROM:+0200
TZOFFSETTO:+0100
TZNAME:CET
DTSTART:20261025T010000
END:STANDARD
BEGIN:DAYLIGHT
TZOFFSETFROM:+0100
TZOFFSETTO:+0200
TZNAME:CEST
DTSTART:20270328T010000
END:DAYLIGHT
BEGIN:STANDARD
TZOFFSETFROM:+0200
TZOFFSETTO:+0100
TZNAME:CET
DTSTART:20271031T010000
END:STANDARD
END:VTIMEZONE
BEGIN:VEVENT
DTSTART;TZID=Europe/Berlin:20260127T080000
DTEND;TZID=Europe/Berlin:20260630T170000
DTSTAMP:20260426T052144
CREATED:20260127T124452Z
LAST-MODIFIED:20260127T124452Z
UID:10001441-1769500800-1782838800@aba-ev.org
SUMMARY:Zuhören verbindet – Demokratie im Quartier erleben
DESCRIPTION:Zuhören verbindet – Demokratie im Quartier erleben“ ist ein Projekt von Abá e.V. in Frankfurt am Main (Schwerpunkt Bornheim) mit einer Laufzeit von November 2025 bis Juni 2026. Es stärkt demokratische Teilhabe von Menschen\, die in politischen Prozessen oft zu wenig Gehör finden – insbesondere Menschen mit Migrationsgeschichte\, Schwarze Communities\, Jugendliche\, Alleinerziehende und Senior*innen.\nDas Projekt kombiniert niedrigschwellige politische Bildung\, Empowerment und Antidiskriminierungsarbeit\, kreative Formate (Kunst/Fotografie/Meditation) sowie Jugendangebote zur Medienkompetenz und Extremismusprävention. Geplant sind Dialog-Cafés\, Workshops „Demokratie kompakt“\, mehrsprachige Wahl-Informationen zur Kommunalwahl 2026\, Lesungen und Dialoge gegen Rassismus\, Empowerment-Workshops\, künstlerische Workshops und eine Abschlussveranstaltung mit Ausstellung. \nInsgesamt umfasst das Vorhaben rund 31 Veranstaltungen\,
URL:https://aba-ev.org/event/zuhoeren-verbindet-demokratie-im-quartier-erleben/
LOCATION:Abá e.V.\, Berger Straße 287\, Abá e.V.\, 60385\, Deutschland
ATTACH;FMTTYPE=image/jpeg:https://aba-ev.org/wp-content/uploads/2026/01/WhatsApp-Image-2026-01-26-at-20.22.51.jpeg
ORGANIZER;CN="Ab%C3%A1 e.V.":MAILTO:info@aba-ev.org
END:VEVENT
BEGIN:VEVENT
DTSTART;TZID=Europe/Berlin:20260205T150000
DTEND;TZID=Europe/Berlin:20260205T170000
DTSTAMP:20260426T052144
CREATED:20260127T123026Z
LAST-MODIFIED:20260127T123026Z
UID:10001439-1770303600-1770310800@aba-ev.org
SUMMARY:Demokratie in der Familie – Dialog\, Verantwortung\, gemeinsam entscheiden
DESCRIPTION:Projekt „Zuhören verbindet – Demokratie im Quartier erleben \nWie gelingt ein respektvoller Umgang zu Hause – auch wenn Meinungen auseinandergehen? Wie können Familien so miteinander sprechen\, dass alle gehört werden und Entscheidungen gemeinsam getragen werden? \nIm Rahmen der Reihe „Zuhören verbindet – Demokratie im Quartier erleben“ laden wir herzlich zum Workshop „Demokratie in der Familie“ ein. Gemeinsam sprechen wir über Respekt\, aktives Zuhören und alltagstaugliche Kommunikationsstrategien aus der Positiven Psychologie. Der Workshop bietet Raum für Austausch\, praktische Impulse und konkrete Ideen\, wie Familienkultur demokratisch\, wertschätzend und stärkend gestaltet werden kann. \nReferentin: Sheyda Seif Naraghi (Psychologin)\nDatum: 05.02.2026\nUhrzeit: 15–17 Uhr\nOrt: Wittelsbacherallee 183\, 60385 Frankfurt am Main \nMehr Infos & Anmeldung:\nWhatsApp: +49 162416 8883 \nE-Mail: lale.tamadon@aba-ev.org \nEine Veranstaltung von Abá e.V. in Kooperation mit YARA und mit Unterstützung des Amts für multikulturelle Angelegenheiten Frankfurt am Main.
URL:https://aba-ev.org/event/demokratie-in-der-familie-dialog-verantwortung-gemeinsam-entscheiden/
LOCATION:Abá e.V.\, Berger Straße 287\, Abá e.V.\, 60385\, Deutschland
ATTACH;FMTTYPE=image/jpeg:https://aba-ev.org/wp-content/uploads/2026/01/WhatsApp-Image-2026-01-26-at-20.27.03-1.jpeg
ORGANIZER;CN="Ab%C3%A1 e.V.":MAILTO:info@aba-ev.org
END:VEVENT
BEGIN:VEVENT
DTSTART;TZID=Europe/Berlin:20260205T150000
DTEND;TZID=Europe/Berlin:20260205T170000
DTSTAMP:20260426T052144
CREATED:20260127T124310Z
LAST-MODIFIED:20260127T124310Z
UID:10001440-1770303600-1770310800@aba-ev.org
SUMMARY:Demokratie in der Familie
DESCRIPTION:Demokratie in der Familie – Dialog\, Verantwortung\, gemeinsam entscheiden \nWie gelingt ein respektvoller Umgang zu Hause – auch wenn Meinungen auseinandergehen? Wie können Familien so miteinander sprechen\, dass alle gehört werden und Entscheidungen gemeinsam getragen werden? \nIm Rahmen der Reihe „Zuhören verbindet – Demokratie im Quartier erleben“ laden wir herzlich zum Workshop „Demokratie in der Familie“ ein. Gemeinsam sprechen wir über Respekt\, aktives Zuhören und alltagstaugliche Kommunikationsstrategien aus der Positiven Psychologie. Der Workshop bietet Raum für Austausch\, praktische Impulse und konkrete Ideen\, wie Familienkultur demokratisch\, wertschätzend und stärkend gestaltet werden kann. \nReferentin: Sheyda Seif Naraghi (Psychologin)\nDatum: 05.02.2026\nUhrzeit: 15–17 Uhr\nOrt: Wittelsbacherallee 183\, 60385 Frankfurt am Main \nMehr Infos & Anmeldung:\nWhatsApp: +49 162416 8883 \nEine Veranstaltung von Abá e.V. in Kooperation mit YARA und mit Unterstützung des Amts für multikulturelle Angelegenheiten Frankfurt am Main.
URL:https://aba-ev.org/event/demokratie-in-der-familie/
LOCATION:Abá e.V.\, Berger Straße 287\, Abá e.V.\, 60385\, Deutschland
ATTACH;FMTTYPE=image/jpeg:https://aba-ev.org/wp-content/uploads/2026/01/WhatsApp-Image-2026-01-26-at-20.27.03-1.jpeg
ORGANIZER;CN="Ab%C3%A1 e.V.":MAILTO:info@aba-ev.org
END:VEVENT
BEGIN:VEVENT
DTSTART;TZID=Europe/Berlin:20260207T110000
DTEND;TZID=Europe/Berlin:20260207T210000
DTSTAMP:20260426T052144
CREATED:20260116T180151Z
LAST-MODIFIED:20260127T122625Z
UID:10001435-1770462000-1770498000@aba-ev.org
SUMMARY:Karneval 2026 – Bunt wie der Regenwald
DESCRIPTION:Unsere Erde – unser Zuhause\nAm 07. Februar 2026 lädt Abá e.V. zu einem bunten\, nachhaltigen und familienfreundlichen Karnevalsfest ins Jugendhaus Heideplatz in Frankfurt-Bornheim ein. Unter dem Motto „Bunt wie der Regenwald“ steht der Karneval ganz im Zeichen von Vielfalt\, Gemeinschaft und Umweltbewusstsein. \nAb 11:00 Uhr erwartet die Besucher*innen ein offenes Programm für alle Generationen: Kinderkarneval mit Masken-Bastelwerkstatt\, Spielen\, Upcycling-Aktionen und viel Spaß für die Kleinen. Ergänzt wird das Angebot durch Tanzworkshops\, freies Tanzen sowie Live- und DJ-Musik\, mit Live-Musik ab 17:00 Uhr. \nKulinarisch gibt es brasilianische Spezialitäten wie Feijoada (auch vegan) sowie Getränke\, Kuchen und weitere Leckereien. Ein Wettbewerb für Karnevalskostüme rundet das Programm ab. \nDer Eintritt ist kostenfrei.Der Karneval versteht sich als offenes\, kulturelles Fest für die Nachbarschaft – kreativ\, fröhlich und nachhaltig. \n11:00 Uhr – Eröffnung\nBegrüßung und Start des Kinderprogramms \n12:00 – 18:00 Uhr – Gastronomie geöffnet \n Kinderprogramm – Halle \n11:00 – 17:00 Uhr (durchgehend) \nBastelangebote für Kinder – Masken basteln (Upcycling)\nKinderschminken\nSpielstand – Afrika-Puzzle\nKinderparty \nProgrammpunkte: \n\n14:30 Uhr – Kinderparty: Tanzen\n15:00 – 15:40 Uhr – Zumba mit Jane Brasil\n16:00 – 16:30 Uhr – Carimbó\n\n Wettbewerb \n16:30 – 17:30 Uhr – Karnevalskostüm-Wettbewerb (Halle) \n Abendprogramm – Halle \n17:30 Uhr – Samba mit Mai (Eröffnung des Erwachsenenkarnevals)\n18:00 Uhr – Live-Musik mit Jurureba Band\n20:00 – 21:00 Uhr – Musik mit DJ Pituca \n Begleitprogramm – unten \n15:00 Uhr – Runder Tisch: „Erwachen & Bewusstwerden“ \nAustausch mit: Pädagog*innen\, Künstler*innen\, Eltern und Interessierten\nThemen: Was ist Karneval? Wie können wir nachhaltig feiern? \n📍 Ort: Jugendhaus Heideplatz\, Schleiermacherstraße 7\, 60316 Frankfurt am Main🚇 Nähe U-Bahnhof Höhenstraße🕚 Beginn: ab 11:00 Uhr \nKeine Kostüme mit Bezug auf indigene Kulturen – danke für euer Verständnis. \n 
URL:https://aba-ev.org/event/karneval-2026-bunt-wie-der-regenwald/
LOCATION:Abá e.V.\, Berger Straße 287\, Abá e.V.\, 60385\, Deutschland
ATTACH;FMTTYPE=image/png:https://aba-ev.org/wp-content/uploads/2026/01/DE-2.png
ORGANIZER;CN="Ab%C3%A1 e.V.":MAILTO:info@aba-ev.org
END:VEVENT
END:VCALENDAR