BEGIN:VCALENDAR
VERSION:2.0
PRODID:-//Abá e.V. aba-ev.org - ECPv6.15.12.2//NONSGML v1.0//EN
CALSCALE:GREGORIAN
METHOD:PUBLISH
X-WR-CALNAME:Abá e.V. aba-ev.org
X-ORIGINAL-URL:https://aba-ev.org
X-WR-CALDESC:Veranstaltungen für Abá e.V. aba-ev.org
REFRESH-INTERVAL;VALUE=DURATION:PT1H
X-Robots-Tag:noindex
X-PUBLISHED-TTL:PT1H
BEGIN:VTIMEZONE
TZID:Europe/Berlin
BEGIN:DAYLIGHT
TZOFFSETFROM:+0100
TZOFFSETTO:+0200
TZNAME:CEST
DTSTART:20240331T010000
END:DAYLIGHT
BEGIN:STANDARD
TZOFFSETFROM:+0200
TZOFFSETTO:+0100
TZNAME:CET
DTSTART:20241027T010000
END:STANDARD
BEGIN:DAYLIGHT
TZOFFSETFROM:+0100
TZOFFSETTO:+0200
TZNAME:CEST
DTSTART:20250330T010000
END:DAYLIGHT
BEGIN:STANDARD
TZOFFSETFROM:+0200
TZOFFSETTO:+0100
TZNAME:CET
DTSTART:20251026T010000
END:STANDARD
BEGIN:DAYLIGHT
TZOFFSETFROM:+0100
TZOFFSETTO:+0200
TZNAME:CEST
DTSTART:20260329T010000
END:DAYLIGHT
BEGIN:STANDARD
TZOFFSETFROM:+0200
TZOFFSETTO:+0100
TZNAME:CET
DTSTART:20261025T010000
END:STANDARD
END:VTIMEZONE
BEGIN:VEVENT
DTSTART;TZID=Europe/Berlin:20250704T100000
DTEND;TZID=Europe/Berlin:20250704T120000
DTSTAMP:20260421T004150
CREATED:20250703T181426Z
LAST-MODIFIED:20250703T181504Z
UID:10001405-1751623200-1751630400@aba-ev.org
SUMMARY:Müttersprachcafé
DESCRIPTION:
URL:https://aba-ev.org/event/muettersprachcafe/
LOCATION:Abá e.V.\, Berger Straße 287\, Abá e.V.\, 60385\, Deutschland
ATTACH;FMTTYPE=image/jpeg:https://aba-ev.org/wp-content/uploads/2025/07/muettersprachcafe.jpeg
ORGANIZER;CN="Ab%C3%A1 e.V.":MAILTO:info@aba-ev.org
END:VEVENT
BEGIN:VEVENT
DTSTART;TZID=Europe/Berlin:20250704T150000
DTEND;TZID=Europe/Berlin:20250704T170000
DTSTAMP:20260421T004150
CREATED:20250703T181032Z
LAST-MODIFIED:20250703T181032Z
UID:10001404-1751641200-1751648400@aba-ev.org
SUMMARY:KreativeCafé für Kinder und Eltern
DESCRIPTION:
URL:https://aba-ev.org/event/kreativecafe-fuer-kinder-und-eltern/
LOCATION:Abá e.V.\, Berger Straße 287\, Abá e.V.\, 60385\, Deutschland
ATTACH;FMTTYPE=image/jpeg:https://aba-ev.org/wp-content/uploads/2025/07/kreativcafe.jpeg
ORGANIZER;CN="Ab%C3%A1 e.V.":MAILTO:info@aba-ev.org
END:VEVENT
BEGIN:VEVENT
DTSTART;TZID=Europe/Berlin:20250705T130000
DTEND;TZID=Europe/Berlin:20250705T150000
DTSTAMP:20260421T004150
CREATED:20250703T162028Z
LAST-MODIFIED:20250806T154923Z
UID:10001403-1751720400-1751727600@aba-ev.org
SUMMARY:Familienzentrum Einladug zum Eltern/Großeltern-Gartentreff
DESCRIPTION:
URL:https://aba-ev.org/event/familienzentrum-einladug-zum-eltern-grosseltern-gartentreff/
LOCATION:Abá e.V.\, Berger Straße 287\, Abá e.V.\, 60385\, Deutschland
CATEGORIES:Familienzentrum
ATTACH;FMTTYPE=image/jpeg:https://aba-ev.org/wp-content/uploads/2025/07/familienzentrum.jpeg
ORGANIZER;CN="Ab%C3%A1 e.V.":MAILTO:info@aba-ev.org
END:VEVENT
BEGIN:VEVENT
DTSTART;TZID=Europe/Berlin:20250705T160000
DTEND;TZID=Europe/Berlin:20250705T160000
DTSTAMP:20260421T004150
CREATED:20250703T112323Z
LAST-MODIFIED:20250703T113236Z
UID:10001402-1751731200-1751731200@aba-ev.org
SUMMARY:Frauen Treffen Stark bleiben in schweren Zeiten!
DESCRIPTION:
URL:https://aba-ev.org/event/frauen-treffen/
LOCATION:Abá e.V.\, Berger Straße 287\, Abá e.V.\, 60385\, Deutschland
CATEGORIES:Frauen
ATTACH;FMTTYPE=image/jpeg:https://aba-ev.org/wp-content/uploads/2025/07/WhatsApp-Image-2025-07-03-at-12.22.29.jpeg
ORGANIZER;CN="Ab%C3%A1 e.V.":MAILTO:info@aba-ev.org
END:VEVENT
END:VCALENDAR