BEGIN:VCALENDAR
VERSION:2.0
PRODID:-//Abá e.V. aba-ev.org - ECPv6.15.12.2//NONSGML v1.0//EN
CALSCALE:GREGORIAN
METHOD:PUBLISH
X-ORIGINAL-URL:https://aba-ev.org
X-WR-CALDESC:Veranstaltungen für Abá e.V. aba-ev.org
REFRESH-INTERVAL;VALUE=DURATION:PT1H
X-Robots-Tag:noindex
X-PUBLISHED-TTL:PT1H
BEGIN:VTIMEZONE
TZID:Europe/Berlin
BEGIN:DAYLIGHT
TZOFFSETFROM:+0100
TZOFFSETTO:+0200
TZNAME:CEST
DTSTART:20220327T010000
END:DAYLIGHT
BEGIN:STANDARD
TZOFFSETFROM:+0200
TZOFFSETTO:+0100
TZNAME:CET
DTSTART:20221030T010000
END:STANDARD
BEGIN:DAYLIGHT
TZOFFSETFROM:+0100
TZOFFSETTO:+0200
TZNAME:CEST
DTSTART:20230326T010000
END:DAYLIGHT
BEGIN:STANDARD
TZOFFSETFROM:+0200
TZOFFSETTO:+0100
TZNAME:CET
DTSTART:20231029T010000
END:STANDARD
BEGIN:DAYLIGHT
TZOFFSETFROM:+0100
TZOFFSETTO:+0200
TZNAME:CEST
DTSTART:20240331T010000
END:DAYLIGHT
BEGIN:STANDARD
TZOFFSETFROM:+0200
TZOFFSETTO:+0100
TZNAME:CET
DTSTART:20241027T010000
END:STANDARD
END:VTIMEZONE
BEGIN:VEVENT
DTSTART;TZID=Europe/Berlin:20230210T160000
DTEND;TZID=Europe/Berlin:20230228T200000
DTSTAMP:20260421T131400
CREATED:20230213T201315Z
LAST-MODIFIED:20230213T201315Z
UID:10000027-1676044800-1677614400@aba-ev.org
SUMMARY:Einladung zur Personalausstellung  "Pophiphemus und Umgebung“  des Künstlers Antonio Balbi da Roccagloriosa
DESCRIPTION:Einladung zur Personalausstellung  „Pophiphemus und Umgebung“  des Künstlers Antonio Balbi da Roccagloriosa \n  \nVom 10. bis 28. Februar 2023 \n  \nGalería CasAzul – Seckbach \nStaffel 107 \, 60389 Frankfurt am Main \n  \nTermine: \nFreitag \, 10. Februar um 18:00 Uhr \nSamstag \, 11. Februar von 16:00 bis 20:00 Uhr \nSonntag 12.02 . von 16.00 bis 20.00 Uhr \nSamstag \, 18. Februar von 16.00 bis 20.00 Uhr \nSonntag \, 19. von 16:00 bis 20:00 Uhr \nFreitag \, 24. Februar um 18:00 Uhr \nSamstag \, 25. Februar \, 16-20 Uhr \nSonntag \, 26. Feb. von 16-20 Uhr \nDienstag \, 28. Februar um 18:00 Uhr
URL:https://aba-ev.org/event/einladung-zur-personalausstellung-pophiphemus-und-umgebung-des-kuenstlers-antonio-balbi-da-roccagloriosa/
LOCATION:Abá e.V.\, Berger Straße 287\, Abá e.V.\, 60385\, Deutschland
ORGANIZER;CN="CasAzul":MAILTO:casazulseckbach@gmail.com
END:VEVENT
BEGIN:VEVENT
DTSTART;TZID=Europe/Berlin:20230304T143000
DTEND;TZID=Europe/Berlin:20230304T163000
DTSTAMP:20260421T131400
CREATED:20230301T194447Z
LAST-MODIFIED:20230301T194447Z
UID:10000028-1677940200-1677947400@aba-ev.org
SUMMARY:Offenes Mitgliedertreffen
DESCRIPTION:Jeden ersten Samstag im Monat veranstalten wir ein offenes Treffen\, um unseren Teilnehmer*innen und auch zukünftigen Interessenten zu erzählen\, was wir in dem Verein alles unternehmen. Das ist auch der Zeitpunkt\, an dem die Leute uns Feedback geben\, Ideen vorschlagen und sich an den verschiedenen Projekten beteiligen können. \nSei dabei! Wir freuen uns auf Euch!
URL:https://aba-ev.org/event/offenes-mitgliedertreffen/2023-03-04/
LOCATION:Abá e.V.\, Berger Straße 287\, Abá e.V.\, 60385\, Deutschland
CATEGORIES:Veranstaltung
ATTACH;FMTTYPE=image/png:https://aba-ev.org/wp-content/uploads/2023/03/Screenshot-2023-02-02-at-13.23.35.png
ORGANIZER;CN="Ab%C3%A1 e.V.":MAILTO:info@aba-ev.org
END:VEVENT
END:VCALENDAR