BEGIN:VCALENDAR
VERSION:2.0
PRODID:-//Abá e.V. aba-ev.org - ECPv6.15.12.2//NONSGML v1.0//EN
CALSCALE:GREGORIAN
METHOD:PUBLISH
X-WR-CALNAME:Abá e.V. aba-ev.org
X-ORIGINAL-URL:https://aba-ev.org
X-WR-CALDESC:Veranstaltungen für Abá e.V. aba-ev.org
REFRESH-INTERVAL;VALUE=DURATION:PT1H
X-Robots-Tag:noindex
X-PUBLISHED-TTL:PT1H
BEGIN:VTIMEZONE
TZID:Europe/Berlin
BEGIN:DAYLIGHT
TZOFFSETFROM:+0100
TZOFFSETTO:+0200
TZNAME:CEST
DTSTART:20240331T010000
END:DAYLIGHT
BEGIN:STANDARD
TZOFFSETFROM:+0200
TZOFFSETTO:+0100
TZNAME:CET
DTSTART:20241027T010000
END:STANDARD
BEGIN:DAYLIGHT
TZOFFSETFROM:+0100
TZOFFSETTO:+0200
TZNAME:CEST
DTSTART:20250330T010000
END:DAYLIGHT
BEGIN:STANDARD
TZOFFSETFROM:+0200
TZOFFSETTO:+0100
TZNAME:CET
DTSTART:20251026T010000
END:STANDARD
BEGIN:DAYLIGHT
TZOFFSETFROM:+0100
TZOFFSETTO:+0200
TZNAME:CEST
DTSTART:20260329T010000
END:DAYLIGHT
BEGIN:STANDARD
TZOFFSETFROM:+0200
TZOFFSETTO:+0100
TZNAME:CET
DTSTART:20261025T010000
END:STANDARD
END:VTIMEZONE
BEGIN:VEVENT
DTSTART;TZID=Europe/Berlin:20250808T100000
DTEND;TZID=Europe/Berlin:20250808T150000
DTSTAMP:20260423T145925
CREATED:20250724T091544Z
LAST-MODIFIED:20250806T154902Z
UID:10001408-1754647200-1754665200@aba-ev.org
SUMMARY:Kreativ und mal Workshop für Kinder
DESCRIPTION:
URL:https://aba-ev.org/event/kreativ-und-mal-workshop-fuer-kinder/
LOCATION:Abá e.V.\, Berger Straße 287\, Abá e.V.\, 60385\, Deutschland
CATEGORIES:Familienzentrum
ATTACH;FMTTYPE=image/jpeg:https://aba-ev.org/wp-content/uploads/2025/07/kreativ-undmal-workshop.jpeg
ORGANIZER;CN="Ab%C3%A1 e.V.":MAILTO:info@aba-ev.org
END:VEVENT
BEGIN:VEVENT
DTSTART;TZID=Europe/Berlin:20250808T170000
DTEND;TZID=Europe/Berlin:20250808T183000
DTSTAMP:20260423T145925
CREATED:20250806T150801Z
LAST-MODIFIED:20250806T154853Z
UID:10001410-1754672400-1754677800@aba-ev.org
SUMMARY:Capoeira Angola
DESCRIPTION:
URL:https://aba-ev.org/event/capoeira-angola/
LOCATION:Abá e.V.\, Berger Straße 287\, Abá e.V.\, 60385\, Deutschland
CATEGORIES:Familienzentrum
ATTACH;FMTTYPE=image/jpeg:https://aba-ev.org/wp-content/uploads/2025/08/PHOTO-2025-08-06-14-10-21.jpg
ORGANIZER;CN="Ab%C3%A1 e.V.":MAILTO:info@aba-ev.org
END:VEVENT
BEGIN:VEVENT
DTSTART;TZID=Europe/Berlin:20250809T130000
DTEND;TZID=Europe/Berlin:20250809T150000
DTSTAMP:20260423T145925
CREATED:20250806T150952Z
LAST-MODIFIED:20250806T163939Z
UID:10001411-1754744400-1754751600@aba-ev.org
SUMMARY:Garten Treffen
DESCRIPTION:
URL:https://aba-ev.org/event/garten-treffen/
LOCATION:Abá e.V.\, Berger Straße 287\, Abá e.V.\, 60385\, Deutschland
CATEGORIES:Familienzentrum
ATTACH;FMTTYPE=image/jpeg:https://aba-ev.org/wp-content/uploads/2025/08/PHOTO-2025-08-06-14-10-40.jpg
ORGANIZER;CN="Ab%C3%A1 e.V.":MAILTO:info@aba-ev.org
END:VEVENT
BEGIN:VEVENT
DTSTART;TZID=Europe/Berlin:20250815T100000
DTEND;TZID=Europe/Berlin:20250815T150000
DTSTAMP:20260423T145925
CREATED:20250814T103514Z
LAST-MODIFIED:20250814T103514Z
UID:10001412-1755252000-1755270000@aba-ev.org
SUMMARY:Kreativ und mal Workshop
DESCRIPTION:
URL:https://aba-ev.org/event/kreativ-und-mal-workshop/
LOCATION:Abá e.V.\, Berger Straße 287\, Abá e.V.\, 60385\, Deutschland
ATTACH;FMTTYPE=image/jpeg:https://aba-ev.org/wp-content/uploads/2025/07/kreativ-undmal-workshop.jpeg
ORGANIZER;CN="Ab%C3%A1 e.V.":MAILTO:info@aba-ev.org
END:VEVENT
BEGIN:VEVENT
DTSTART;TZID=Europe/Berlin:20250816T130000
DTEND;TZID=Europe/Berlin:20250816T150000
DTSTAMP:20260423T145925
CREATED:20250816T094545Z
LAST-MODIFIED:20250819T171325Z
UID:10001415-1755349200-1755356400@aba-ev.org
SUMMARY:mit den Händen in der Erde
DESCRIPTION:
URL:https://aba-ev.org/event/mit-den-haenden-in-der-erde/
LOCATION:Abá e.V.\, Berger Straße 287\, Abá e.V.\, 60385\, Deutschland
ATTACH;FMTTYPE=image/jpeg:https://aba-ev.org/wp-content/uploads/2025/08/42b89a78-bcf6-4140-a3da-a4949f2d7856.jpg
ORGANIZER;CN="Ab%C3%A1 e.V.":MAILTO:info@aba-ev.org
END:VEVENT
BEGIN:VEVENT
DTSTART;TZID=Europe/Berlin:20250823T100000
DTEND;TZID=Europe/Berlin:20250823T120000
DTSTAMP:20260423T145925
CREATED:20250816T094855Z
LAST-MODIFIED:20250819T171209Z
UID:10001416-1755943200-1755950400@aba-ev.org
SUMMARY:Plege - Wasser\, Sonne und Liebe
DESCRIPTION:
URL:https://aba-ev.org/event/plege-wasser-sonne-und-liebe/
LOCATION:Abá e.V.\, Berger Straße 287\, Abá e.V.\, 60385\, Deutschland
ATTACH;FMTTYPE=image/jpeg:https://aba-ev.org/wp-content/uploads/2025/08/PHOTO-2025-08-14-14-45-14.jpg
ORGANIZER;CN="Ab%C3%A1 e.V.":MAILTO:info@aba-ev.org
END:VEVENT
BEGIN:VEVENT
DTSTART;TZID=Europe/Berlin:20250830T130000
DTEND;TZID=Europe/Berlin:20250830T150000
DTSTAMP:20260423T145925
CREATED:20250816T093809Z
LAST-MODIFIED:20250819T170718Z
UID:10001414-1756558800-1756566000@aba-ev.org
SUMMARY:Ernte - der Wert der Fürsorge
DESCRIPTION:
URL:https://aba-ev.org/event/ernte-der-wert-der-fuersorge/
LOCATION:Abá e.V.\, Berger Straße 287\, Abá e.V.\, 60385\, Deutschland
ATTACH;FMTTYPE=image/jpeg:https://aba-ev.org/wp-content/uploads/2025/08/9598f985-0c46-4ad0-bf73-63236610d147.jpg
ORGANIZER;CN="Ab%C3%A1 e.V.":MAILTO:info@aba-ev.org
END:VEVENT
END:VCALENDAR