BEGIN:VCALENDAR
VERSION:2.0
PRODID:-//Abá e.V. aba-ev.org - ECPv6.15.12.2//NONSGML v1.0//EN
CALSCALE:GREGORIAN
METHOD:PUBLISH
X-WR-CALNAME:Abá e.V. aba-ev.org
X-ORIGINAL-URL:https://aba-ev.org
X-WR-CALDESC:Veranstaltungen für Abá e.V. aba-ev.org
REFRESH-INTERVAL;VALUE=DURATION:PT1H
X-Robots-Tag:noindex
X-PUBLISHED-TTL:PT1H
BEGIN:VTIMEZONE
TZID:Europe/Berlin
BEGIN:DAYLIGHT
TZOFFSETFROM:+0100
TZOFFSETTO:+0200
TZNAME:CEST
DTSTART:20250330T010000
END:DAYLIGHT
BEGIN:STANDARD
TZOFFSETFROM:+0200
TZOFFSETTO:+0100
TZNAME:CET
DTSTART:20251026T010000
END:STANDARD
BEGIN:DAYLIGHT
TZOFFSETFROM:+0100
TZOFFSETTO:+0200
TZNAME:CEST
DTSTART:20260329T010000
END:DAYLIGHT
BEGIN:STANDARD
TZOFFSETFROM:+0200
TZOFFSETTO:+0100
TZNAME:CET
DTSTART:20261025T010000
END:STANDARD
BEGIN:DAYLIGHT
TZOFFSETFROM:+0100
TZOFFSETTO:+0200
TZNAME:CEST
DTSTART:20270328T010000
END:DAYLIGHT
BEGIN:STANDARD
TZOFFSETFROM:+0200
TZOFFSETTO:+0100
TZNAME:CET
DTSTART:20271031T010000
END:STANDARD
END:VTIMEZONE
BEGIN:VEVENT
DTSTART;TZID=Europe/Berlin:20260823T170000
DTEND;TZID=Europe/Berlin:20260823T190000
DTSTAMP:20260421T235931
CREATED:20260421T215216Z
LAST-MODIFIED:20260421T215216Z
UID:10001729-1787504400-1787511600@aba-ev.org
SUMMARY:Kinder-Stationen
DESCRIPTION:
URL:https://aba-ev.org/event/kinder-stationen-4/2026-08-23/
LOCATION:Abá e.V.\, Berger Straße 287\, Abá e.V.\, 60385\, Deutschland
ATTACH;FMTTYPE=image/jpeg:https://aba-ev.org/wp-content/uploads/2026/04/WhatsApp-Image-2026-04-16-at-18.33.05-2.jpeg
ORGANIZER;CN="Ab%C3%A1 e.V.":MAILTO:info@aba-ev.org
END:VEVENT
BEGIN:VEVENT
DTSTART;TZID=Europe/Berlin:20260825T170000
DTEND;TZID=Europe/Berlin:20260825T190000
DTSTAMP:20260421T235931
CREATED:20260421T203713Z
LAST-MODIFIED:20260421T203713Z
UID:10001542-1787677200-1787684400@aba-ev.org
SUMMARY:Nähcafé Gemeinsam Kreativ
DESCRIPTION:
URL:https://aba-ev.org/event/naehcafe-gemeinsam-kreativ-3/2026-08-25/
LOCATION:Abá e.V.\, Berger Straße 287\, Abá e.V.\, 60385\, Deutschland
ATTACH;FMTTYPE=image/jpeg:https://aba-ev.org/wp-content/uploads/2026/04/WhatsApp-Image-2026-04-13-at-10.53.21.jpeg
ORGANIZER;CN="Ab%C3%A1 e.V.":MAILTO:info@aba-ev.org
END:VEVENT
BEGIN:VEVENT
DTSTART;TZID=Europe/Berlin:20260825T170000
DTEND;TZID=Europe/Berlin:20260825T190000
DTSTAMP:20260421T235931
CREATED:20260421T215216Z
LAST-MODIFIED:20260421T215216Z
UID:10001730-1787677200-1787684400@aba-ev.org
SUMMARY:Kinder-Stationen
DESCRIPTION:
URL:https://aba-ev.org/event/kinder-stationen-4/2026-08-25/
LOCATION:Abá e.V.\, Berger Straße 287\, Abá e.V.\, 60385\, Deutschland
ATTACH;FMTTYPE=image/jpeg:https://aba-ev.org/wp-content/uploads/2026/04/WhatsApp-Image-2026-04-16-at-18.33.05-2.jpeg
ORGANIZER;CN="Ab%C3%A1 e.V.":MAILTO:info@aba-ev.org
END:VEVENT
BEGIN:VEVENT
DTSTART;TZID=Europe/Berlin:20260826T170000
DTEND;TZID=Europe/Berlin:20260826T190000
DTSTAMP:20260421T235931
CREATED:20260421T203713Z
LAST-MODIFIED:20260421T203713Z
UID:10001543-1787763600-1787770800@aba-ev.org
SUMMARY:Nähcafé Gemeinsam Kreativ
DESCRIPTION:
URL:https://aba-ev.org/event/naehcafe-gemeinsam-kreativ-3/2026-08-26/
LOCATION:Abá e.V.\, Berger Straße 287\, Abá e.V.\, 60385\, Deutschland
ATTACH;FMTTYPE=image/jpeg:https://aba-ev.org/wp-content/uploads/2026/04/WhatsApp-Image-2026-04-13-at-10.53.21.jpeg
ORGANIZER;CN="Ab%C3%A1 e.V.":MAILTO:info@aba-ev.org
END:VEVENT
BEGIN:VEVENT
DTSTART;TZID=Europe/Berlin:20260827T170000
DTEND;TZID=Europe/Berlin:20260827T190000
DTSTAMP:20260421T235931
CREATED:20260421T203713Z
LAST-MODIFIED:20260421T203713Z
UID:10001544-1787850000-1787857200@aba-ev.org
SUMMARY:Nähcafé Gemeinsam Kreativ
DESCRIPTION:
URL:https://aba-ev.org/event/naehcafe-gemeinsam-kreativ-3/2026-08-27/
LOCATION:Abá e.V.\, Berger Straße 287\, Abá e.V.\, 60385\, Deutschland
ATTACH;FMTTYPE=image/jpeg:https://aba-ev.org/wp-content/uploads/2026/04/WhatsApp-Image-2026-04-13-at-10.53.21.jpeg
ORGANIZER;CN="Ab%C3%A1 e.V.":MAILTO:info@aba-ev.org
END:VEVENT
BEGIN:VEVENT
DTSTART;TZID=Europe/Berlin:20260828T170000
DTEND;TZID=Europe/Berlin:20260828T190000
DTSTAMP:20260421T235931
CREATED:20260421T203713Z
LAST-MODIFIED:20260421T203713Z
UID:10001545-1787936400-1787943600@aba-ev.org
SUMMARY:Nähcafé Gemeinsam Kreativ
DESCRIPTION:
URL:https://aba-ev.org/event/naehcafe-gemeinsam-kreativ-3/2026-08-28/
LOCATION:Abá e.V.\, Berger Straße 287\, Abá e.V.\, 60385\, Deutschland
ATTACH;FMTTYPE=image/jpeg:https://aba-ev.org/wp-content/uploads/2026/04/WhatsApp-Image-2026-04-13-at-10.53.21.jpeg
ORGANIZER;CN="Ab%C3%A1 e.V.":MAILTO:info@aba-ev.org
END:VEVENT
BEGIN:VEVENT
DTSTART;TZID=Europe/Berlin:20260829T170000
DTEND;TZID=Europe/Berlin:20260829T190000
DTSTAMP:20260421T235931
CREATED:20260421T203713Z
LAST-MODIFIED:20260421T203713Z
UID:10001546-1788022800-1788030000@aba-ev.org
SUMMARY:Nähcafé Gemeinsam Kreativ
DESCRIPTION:
URL:https://aba-ev.org/event/naehcafe-gemeinsam-kreativ-3/2026-08-29/
LOCATION:Abá e.V.\, Berger Straße 287\, Abá e.V.\, 60385\, Deutschland
ATTACH;FMTTYPE=image/jpeg:https://aba-ev.org/wp-content/uploads/2026/04/WhatsApp-Image-2026-04-13-at-10.53.21.jpeg
ORGANIZER;CN="Ab%C3%A1 e.V.":MAILTO:info@aba-ev.org
END:VEVENT
BEGIN:VEVENT
DTSTART;TZID=Europe/Berlin:20260830T170000
DTEND;TZID=Europe/Berlin:20260830T190000
DTSTAMP:20260421T235931
CREATED:20260421T215216Z
LAST-MODIFIED:20260421T215216Z
UID:10001731-1788109200-1788116400@aba-ev.org
SUMMARY:Kinder-Stationen
DESCRIPTION:
URL:https://aba-ev.org/event/kinder-stationen-4/2026-08-30/
LOCATION:Abá e.V.\, Berger Straße 287\, Abá e.V.\, 60385\, Deutschland
ATTACH;FMTTYPE=image/jpeg:https://aba-ev.org/wp-content/uploads/2026/04/WhatsApp-Image-2026-04-16-at-18.33.05-2.jpeg
ORGANIZER;CN="Ab%C3%A1 e.V.":MAILTO:info@aba-ev.org
END:VEVENT
BEGIN:VEVENT
DTSTART;TZID=Europe/Berlin:20260901T170000
DTEND;TZID=Europe/Berlin:20260901T190000
DTSTAMP:20260421T235931
CREATED:20260421T203713Z
LAST-MODIFIED:20260421T203713Z
UID:10001547-1788282000-1788289200@aba-ev.org
SUMMARY:Nähcafé Gemeinsam Kreativ
DESCRIPTION:
URL:https://aba-ev.org/event/naehcafe-gemeinsam-kreativ-3/2026-09-01/
LOCATION:Abá e.V.\, Berger Straße 287\, Abá e.V.\, 60385\, Deutschland
ATTACH;FMTTYPE=image/jpeg:https://aba-ev.org/wp-content/uploads/2026/04/WhatsApp-Image-2026-04-13-at-10.53.21.jpeg
ORGANIZER;CN="Ab%C3%A1 e.V.":MAILTO:info@aba-ev.org
END:VEVENT
BEGIN:VEVENT
DTSTART;TZID=Europe/Berlin:20260901T170000
DTEND;TZID=Europe/Berlin:20260901T190000
DTSTAMP:20260421T235931
CREATED:20260421T215216Z
LAST-MODIFIED:20260421T215216Z
UID:10001732-1788282000-1788289200@aba-ev.org
SUMMARY:Kinder-Stationen
DESCRIPTION:
URL:https://aba-ev.org/event/kinder-stationen-4/2026-09-01/
LOCATION:Abá e.V.\, Berger Straße 287\, Abá e.V.\, 60385\, Deutschland
ATTACH;FMTTYPE=image/jpeg:https://aba-ev.org/wp-content/uploads/2026/04/WhatsApp-Image-2026-04-16-at-18.33.05-2.jpeg
ORGANIZER;CN="Ab%C3%A1 e.V.":MAILTO:info@aba-ev.org
END:VEVENT
BEGIN:VEVENT
DTSTART;TZID=Europe/Berlin:20260902T170000
DTEND;TZID=Europe/Berlin:20260902T190000
DTSTAMP:20260421T235931
CREATED:20260421T203713Z
LAST-MODIFIED:20260421T203713Z
UID:10001548-1788368400-1788375600@aba-ev.org
SUMMARY:Nähcafé Gemeinsam Kreativ
DESCRIPTION:
URL:https://aba-ev.org/event/naehcafe-gemeinsam-kreativ-3/2026-09-02/
LOCATION:Abá e.V.\, Berger Straße 287\, Abá e.V.\, 60385\, Deutschland
ATTACH;FMTTYPE=image/jpeg:https://aba-ev.org/wp-content/uploads/2026/04/WhatsApp-Image-2026-04-13-at-10.53.21.jpeg
ORGANIZER;CN="Ab%C3%A1 e.V.":MAILTO:info@aba-ev.org
END:VEVENT
BEGIN:VEVENT
DTSTART;TZID=Europe/Berlin:20260903T170000
DTEND;TZID=Europe/Berlin:20260903T190000
DTSTAMP:20260421T235931
CREATED:20260421T203713Z
LAST-MODIFIED:20260421T203713Z
UID:10001549-1788454800-1788462000@aba-ev.org
SUMMARY:Nähcafé Gemeinsam Kreativ
DESCRIPTION:
URL:https://aba-ev.org/event/naehcafe-gemeinsam-kreativ-3/2026-09-03/
LOCATION:Abá e.V.\, Berger Straße 287\, Abá e.V.\, 60385\, Deutschland
ATTACH;FMTTYPE=image/jpeg:https://aba-ev.org/wp-content/uploads/2026/04/WhatsApp-Image-2026-04-13-at-10.53.21.jpeg
ORGANIZER;CN="Ab%C3%A1 e.V.":MAILTO:info@aba-ev.org
END:VEVENT
BEGIN:VEVENT
DTSTART;TZID=Europe/Berlin:20260904T170000
DTEND;TZID=Europe/Berlin:20260904T190000
DTSTAMP:20260421T235931
CREATED:20260421T203713Z
LAST-MODIFIED:20260421T203713Z
UID:10001550-1788541200-1788548400@aba-ev.org
SUMMARY:Nähcafé Gemeinsam Kreativ
DESCRIPTION:
URL:https://aba-ev.org/event/naehcafe-gemeinsam-kreativ-3/2026-09-04/
LOCATION:Abá e.V.\, Berger Straße 287\, Abá e.V.\, 60385\, Deutschland
ATTACH;FMTTYPE=image/jpeg:https://aba-ev.org/wp-content/uploads/2026/04/WhatsApp-Image-2026-04-13-at-10.53.21.jpeg
ORGANIZER;CN="Ab%C3%A1 e.V.":MAILTO:info@aba-ev.org
END:VEVENT
BEGIN:VEVENT
DTSTART;TZID=Europe/Berlin:20260905T170000
DTEND;TZID=Europe/Berlin:20260905T190000
DTSTAMP:20260421T235931
CREATED:20260421T203713Z
LAST-MODIFIED:20260421T203713Z
UID:10001551-1788627600-1788634800@aba-ev.org
SUMMARY:Nähcafé Gemeinsam Kreativ
DESCRIPTION:
URL:https://aba-ev.org/event/naehcafe-gemeinsam-kreativ-3/2026-09-05/
LOCATION:Abá e.V.\, Berger Straße 287\, Abá e.V.\, 60385\, Deutschland
ATTACH;FMTTYPE=image/jpeg:https://aba-ev.org/wp-content/uploads/2026/04/WhatsApp-Image-2026-04-13-at-10.53.21.jpeg
ORGANIZER;CN="Ab%C3%A1 e.V.":MAILTO:info@aba-ev.org
END:VEVENT
BEGIN:VEVENT
DTSTART;TZID=Europe/Berlin:20260906T170000
DTEND;TZID=Europe/Berlin:20260906T190000
DTSTAMP:20260421T235931
CREATED:20260421T215216Z
LAST-MODIFIED:20260421T215216Z
UID:10001733-1788714000-1788721200@aba-ev.org
SUMMARY:Kinder-Stationen
DESCRIPTION:
URL:https://aba-ev.org/event/kinder-stationen-4/2026-09-06/
LOCATION:Abá e.V.\, Berger Straße 287\, Abá e.V.\, 60385\, Deutschland
ATTACH;FMTTYPE=image/jpeg:https://aba-ev.org/wp-content/uploads/2026/04/WhatsApp-Image-2026-04-16-at-18.33.05-2.jpeg
ORGANIZER;CN="Ab%C3%A1 e.V.":MAILTO:info@aba-ev.org
END:VEVENT
BEGIN:VEVENT
DTSTART;TZID=Europe/Berlin:20260908T170000
DTEND;TZID=Europe/Berlin:20260908T190000
DTSTAMP:20260421T235931
CREATED:20260421T203713Z
LAST-MODIFIED:20260421T203713Z
UID:10001552-1788886800-1788894000@aba-ev.org
SUMMARY:Nähcafé Gemeinsam Kreativ
DESCRIPTION:
URL:https://aba-ev.org/event/naehcafe-gemeinsam-kreativ-3/2026-09-08/
LOCATION:Abá e.V.\, Berger Straße 287\, Abá e.V.\, 60385\, Deutschland
ATTACH;FMTTYPE=image/jpeg:https://aba-ev.org/wp-content/uploads/2026/04/WhatsApp-Image-2026-04-13-at-10.53.21.jpeg
ORGANIZER;CN="Ab%C3%A1 e.V.":MAILTO:info@aba-ev.org
END:VEVENT
BEGIN:VEVENT
DTSTART;TZID=Europe/Berlin:20260908T170000
DTEND;TZID=Europe/Berlin:20260908T190000
DTSTAMP:20260421T235931
CREATED:20260421T215216Z
LAST-MODIFIED:20260421T215216Z
UID:10001734-1788886800-1788894000@aba-ev.org
SUMMARY:Kinder-Stationen
DESCRIPTION:
URL:https://aba-ev.org/event/kinder-stationen-4/2026-09-08/
LOCATION:Abá e.V.\, Berger Straße 287\, Abá e.V.\, 60385\, Deutschland
ATTACH;FMTTYPE=image/jpeg:https://aba-ev.org/wp-content/uploads/2026/04/WhatsApp-Image-2026-04-16-at-18.33.05-2.jpeg
ORGANIZER;CN="Ab%C3%A1 e.V.":MAILTO:info@aba-ev.org
END:VEVENT
BEGIN:VEVENT
DTSTART;TZID=Europe/Berlin:20260909T170000
DTEND;TZID=Europe/Berlin:20260909T190000
DTSTAMP:20260421T235931
CREATED:20260421T203713Z
LAST-MODIFIED:20260421T203713Z
UID:10001553-1788973200-1788980400@aba-ev.org
SUMMARY:Nähcafé Gemeinsam Kreativ
DESCRIPTION:
URL:https://aba-ev.org/event/naehcafe-gemeinsam-kreativ-3/2026-09-09/
LOCATION:Abá e.V.\, Berger Straße 287\, Abá e.V.\, 60385\, Deutschland
ATTACH;FMTTYPE=image/jpeg:https://aba-ev.org/wp-content/uploads/2026/04/WhatsApp-Image-2026-04-13-at-10.53.21.jpeg
ORGANIZER;CN="Ab%C3%A1 e.V.":MAILTO:info@aba-ev.org
END:VEVENT
BEGIN:VEVENT
DTSTART;TZID=Europe/Berlin:20260910T170000
DTEND;TZID=Europe/Berlin:20260910T190000
DTSTAMP:20260421T235931
CREATED:20260421T203713Z
LAST-MODIFIED:20260421T203713Z
UID:10001554-1789059600-1789066800@aba-ev.org
SUMMARY:Nähcafé Gemeinsam Kreativ
DESCRIPTION:
URL:https://aba-ev.org/event/naehcafe-gemeinsam-kreativ-3/2026-09-10/
LOCATION:Abá e.V.\, Berger Straße 287\, Abá e.V.\, 60385\, Deutschland
ATTACH;FMTTYPE=image/jpeg:https://aba-ev.org/wp-content/uploads/2026/04/WhatsApp-Image-2026-04-13-at-10.53.21.jpeg
ORGANIZER;CN="Ab%C3%A1 e.V.":MAILTO:info@aba-ev.org
END:VEVENT
BEGIN:VEVENT
DTSTART;TZID=Europe/Berlin:20260911T170000
DTEND;TZID=Europe/Berlin:20260911T190000
DTSTAMP:20260421T235931
CREATED:20260421T203713Z
LAST-MODIFIED:20260421T203713Z
UID:10001555-1789146000-1789153200@aba-ev.org
SUMMARY:Nähcafé Gemeinsam Kreativ
DESCRIPTION:
URL:https://aba-ev.org/event/naehcafe-gemeinsam-kreativ-3/2026-09-11/
LOCATION:Abá e.V.\, Berger Straße 287\, Abá e.V.\, 60385\, Deutschland
ATTACH;FMTTYPE=image/jpeg:https://aba-ev.org/wp-content/uploads/2026/04/WhatsApp-Image-2026-04-13-at-10.53.21.jpeg
ORGANIZER;CN="Ab%C3%A1 e.V.":MAILTO:info@aba-ev.org
END:VEVENT
BEGIN:VEVENT
DTSTART;TZID=Europe/Berlin:20260912T170000
DTEND;TZID=Europe/Berlin:20260912T190000
DTSTAMP:20260421T235931
CREATED:20260421T203713Z
LAST-MODIFIED:20260421T203713Z
UID:10001556-1789232400-1789239600@aba-ev.org
SUMMARY:Nähcafé Gemeinsam Kreativ
DESCRIPTION:
URL:https://aba-ev.org/event/naehcafe-gemeinsam-kreativ-3/2026-09-12/
LOCATION:Abá e.V.\, Berger Straße 287\, Abá e.V.\, 60385\, Deutschland
ATTACH;FMTTYPE=image/jpeg:https://aba-ev.org/wp-content/uploads/2026/04/WhatsApp-Image-2026-04-13-at-10.53.21.jpeg
ORGANIZER;CN="Ab%C3%A1 e.V.":MAILTO:info@aba-ev.org
END:VEVENT
BEGIN:VEVENT
DTSTART;TZID=Europe/Berlin:20260913T170000
DTEND;TZID=Europe/Berlin:20260913T190000
DTSTAMP:20260421T235931
CREATED:20260421T215216Z
LAST-MODIFIED:20260421T215216Z
UID:10001735-1789318800-1789326000@aba-ev.org
SUMMARY:Kinder-Stationen
DESCRIPTION:
URL:https://aba-ev.org/event/kinder-stationen-4/2026-09-13/
LOCATION:Abá e.V.\, Berger Straße 287\, Abá e.V.\, 60385\, Deutschland
ATTACH;FMTTYPE=image/jpeg:https://aba-ev.org/wp-content/uploads/2026/04/WhatsApp-Image-2026-04-16-at-18.33.05-2.jpeg
ORGANIZER;CN="Ab%C3%A1 e.V.":MAILTO:info@aba-ev.org
END:VEVENT
BEGIN:VEVENT
DTSTART;TZID=Europe/Berlin:20260915T170000
DTEND;TZID=Europe/Berlin:20260915T190000
DTSTAMP:20260421T235931
CREATED:20260421T203713Z
LAST-MODIFIED:20260421T203713Z
UID:10001557-1789491600-1789498800@aba-ev.org
SUMMARY:Nähcafé Gemeinsam Kreativ
DESCRIPTION:
URL:https://aba-ev.org/event/naehcafe-gemeinsam-kreativ-3/2026-09-15/
LOCATION:Abá e.V.\, Berger Straße 287\, Abá e.V.\, 60385\, Deutschland
ATTACH;FMTTYPE=image/jpeg:https://aba-ev.org/wp-content/uploads/2026/04/WhatsApp-Image-2026-04-13-at-10.53.21.jpeg
ORGANIZER;CN="Ab%C3%A1 e.V.":MAILTO:info@aba-ev.org
END:VEVENT
BEGIN:VEVENT
DTSTART;TZID=Europe/Berlin:20260915T170000
DTEND;TZID=Europe/Berlin:20260915T190000
DTSTAMP:20260421T235931
CREATED:20260421T215216Z
LAST-MODIFIED:20260421T215216Z
UID:10001736-1789491600-1789498800@aba-ev.org
SUMMARY:Kinder-Stationen
DESCRIPTION:
URL:https://aba-ev.org/event/kinder-stationen-4/2026-09-15/
LOCATION:Abá e.V.\, Berger Straße 287\, Abá e.V.\, 60385\, Deutschland
ATTACH;FMTTYPE=image/jpeg:https://aba-ev.org/wp-content/uploads/2026/04/WhatsApp-Image-2026-04-16-at-18.33.05-2.jpeg
ORGANIZER;CN="Ab%C3%A1 e.V.":MAILTO:info@aba-ev.org
END:VEVENT
BEGIN:VEVENT
DTSTART;TZID=Europe/Berlin:20260916T170000
DTEND;TZID=Europe/Berlin:20260916T190000
DTSTAMP:20260421T235931
CREATED:20260421T203713Z
LAST-MODIFIED:20260421T203713Z
UID:10001558-1789578000-1789585200@aba-ev.org
SUMMARY:Nähcafé Gemeinsam Kreativ
DESCRIPTION:
URL:https://aba-ev.org/event/naehcafe-gemeinsam-kreativ-3/2026-09-16/
LOCATION:Abá e.V.\, Berger Straße 287\, Abá e.V.\, 60385\, Deutschland
ATTACH;FMTTYPE=image/jpeg:https://aba-ev.org/wp-content/uploads/2026/04/WhatsApp-Image-2026-04-13-at-10.53.21.jpeg
ORGANIZER;CN="Ab%C3%A1 e.V.":MAILTO:info@aba-ev.org
END:VEVENT
BEGIN:VEVENT
DTSTART;TZID=Europe/Berlin:20260917T170000
DTEND;TZID=Europe/Berlin:20260917T190000
DTSTAMP:20260421T235931
CREATED:20260421T203713Z
LAST-MODIFIED:20260421T203713Z
UID:10001559-1789664400-1789671600@aba-ev.org
SUMMARY:Nähcafé Gemeinsam Kreativ
DESCRIPTION:
URL:https://aba-ev.org/event/naehcafe-gemeinsam-kreativ-3/2026-09-17/
LOCATION:Abá e.V.\, Berger Straße 287\, Abá e.V.\, 60385\, Deutschland
ATTACH;FMTTYPE=image/jpeg:https://aba-ev.org/wp-content/uploads/2026/04/WhatsApp-Image-2026-04-13-at-10.53.21.jpeg
ORGANIZER;CN="Ab%C3%A1 e.V.":MAILTO:info@aba-ev.org
END:VEVENT
BEGIN:VEVENT
DTSTART;TZID=Europe/Berlin:20260918T170000
DTEND;TZID=Europe/Berlin:20260918T190000
DTSTAMP:20260421T235931
CREATED:20260421T203713Z
LAST-MODIFIED:20260421T203713Z
UID:10001560-1789750800-1789758000@aba-ev.org
SUMMARY:Nähcafé Gemeinsam Kreativ
DESCRIPTION:
URL:https://aba-ev.org/event/naehcafe-gemeinsam-kreativ-3/2026-09-18/
LOCATION:Abá e.V.\, Berger Straße 287\, Abá e.V.\, 60385\, Deutschland
ATTACH;FMTTYPE=image/jpeg:https://aba-ev.org/wp-content/uploads/2026/04/WhatsApp-Image-2026-04-13-at-10.53.21.jpeg
ORGANIZER;CN="Ab%C3%A1 e.V.":MAILTO:info@aba-ev.org
END:VEVENT
BEGIN:VEVENT
DTSTART;TZID=Europe/Berlin:20260919T170000
DTEND;TZID=Europe/Berlin:20260919T190000
DTSTAMP:20260421T235931
CREATED:20260421T203713Z
LAST-MODIFIED:20260421T203713Z
UID:10001561-1789837200-1789844400@aba-ev.org
SUMMARY:Nähcafé Gemeinsam Kreativ
DESCRIPTION:
URL:https://aba-ev.org/event/naehcafe-gemeinsam-kreativ-3/2026-09-19/
LOCATION:Abá e.V.\, Berger Straße 287\, Abá e.V.\, 60385\, Deutschland
ATTACH;FMTTYPE=image/jpeg:https://aba-ev.org/wp-content/uploads/2026/04/WhatsApp-Image-2026-04-13-at-10.53.21.jpeg
ORGANIZER;CN="Ab%C3%A1 e.V.":MAILTO:info@aba-ev.org
END:VEVENT
BEGIN:VEVENT
DTSTART;TZID=Europe/Berlin:20260920T170000
DTEND;TZID=Europe/Berlin:20260920T190000
DTSTAMP:20260421T235931
CREATED:20260421T215216Z
LAST-MODIFIED:20260421T215216Z
UID:10001737-1789923600-1789930800@aba-ev.org
SUMMARY:Kinder-Stationen
DESCRIPTION:
URL:https://aba-ev.org/event/kinder-stationen-4/2026-09-20/
LOCATION:Abá e.V.\, Berger Straße 287\, Abá e.V.\, 60385\, Deutschland
ATTACH;FMTTYPE=image/jpeg:https://aba-ev.org/wp-content/uploads/2026/04/WhatsApp-Image-2026-04-16-at-18.33.05-2.jpeg
ORGANIZER;CN="Ab%C3%A1 e.V.":MAILTO:info@aba-ev.org
END:VEVENT
BEGIN:VEVENT
DTSTART;TZID=Europe/Berlin:20260922T170000
DTEND;TZID=Europe/Berlin:20260922T190000
DTSTAMP:20260421T235931
CREATED:20260421T203713Z
LAST-MODIFIED:20260421T203713Z
UID:10001562-1790096400-1790103600@aba-ev.org
SUMMARY:Nähcafé Gemeinsam Kreativ
DESCRIPTION:
URL:https://aba-ev.org/event/naehcafe-gemeinsam-kreativ-3/2026-09-22/
LOCATION:Abá e.V.\, Berger Straße 287\, Abá e.V.\, 60385\, Deutschland
ATTACH;FMTTYPE=image/jpeg:https://aba-ev.org/wp-content/uploads/2026/04/WhatsApp-Image-2026-04-13-at-10.53.21.jpeg
ORGANIZER;CN="Ab%C3%A1 e.V.":MAILTO:info@aba-ev.org
END:VEVENT
END:VCALENDAR