BEGIN:VCALENDAR
VERSION:2.0
PRODID:-//Abá e.V. aba-ev.org - ECPv6.15.12.2//NONSGML v1.0//EN
CALSCALE:GREGORIAN
METHOD:PUBLISH
X-WR-CALNAME:Abá e.V. aba-ev.org
X-ORIGINAL-URL:https://aba-ev.org
X-WR-CALDESC:Veranstaltungen für Abá e.V. aba-ev.org
REFRESH-INTERVAL;VALUE=DURATION:PT1H
X-Robots-Tag:noindex
X-PUBLISHED-TTL:PT1H
BEGIN:VTIMEZONE
TZID:Europe/Berlin
BEGIN:DAYLIGHT
TZOFFSETFROM:+0100
TZOFFSETTO:+0200
TZNAME:CEST
DTSTART:20250330T010000
END:DAYLIGHT
BEGIN:STANDARD
TZOFFSETFROM:+0200
TZOFFSETTO:+0100
TZNAME:CET
DTSTART:20251026T010000
END:STANDARD
BEGIN:DAYLIGHT
TZOFFSETFROM:+0100
TZOFFSETTO:+0200
TZNAME:CEST
DTSTART:20260329T010000
END:DAYLIGHT
BEGIN:STANDARD
TZOFFSETFROM:+0200
TZOFFSETTO:+0100
TZNAME:CET
DTSTART:20261025T010000
END:STANDARD
BEGIN:DAYLIGHT
TZOFFSETFROM:+0100
TZOFFSETTO:+0200
TZNAME:CEST
DTSTART:20270328T010000
END:DAYLIGHT
BEGIN:STANDARD
TZOFFSETFROM:+0200
TZOFFSETTO:+0100
TZNAME:CET
DTSTART:20271031T010000
END:STANDARD
END:VTIMEZONE
BEGIN:VEVENT
DTSTART;TZID=Europe/Berlin:20260424T150000
DTEND;TZID=Europe/Berlin:20260424T170000
DTSTAMP:20260422T005502
CREATED:20260409T160607Z
LAST-MODIFIED:20260409T160857Z
UID:10001448-1777042800-1777050000@aba-ev.org
SUMMARY:Erzähl uns eine Geschichte – Museumsbesuch im Struwwelpeter Museum
DESCRIPTION:Gemeinsam besuchen wir das Struwwelpeter Museum und tauchen ein in die faszinierende Welt der berühmten Geschichten rund um den Struwwelpeter. \nIm Rahmen unseres Projekts „Erzähl uns eine Geschichte“ laden wir Frauen herzlich zu einem inspirierenden Museumsbesuch ein. Bei einer gemeinsamen Führung durch die Ausstellung entdecken wir die Figuren und Erzählungen auf kreative Weise und lassen uns dazu anregen\, eigene Geschichten zu entwickeln. \nDer Museumsbesuch bietet nicht nur spannende Einblicke\, sondern auch Raum für Austausch\, Kreativität und gemeinsames Erleben in einer offenen und wertschätzenden Atmosphäre. \nWas erwartet Sie: \n\nGemeinsamer Museumsbesuch\nFührung durch die Ausstellung\nKreative Inspiration für eigene Geschichten\n\nDatum: 24. April 2026Uhrzeit: 15:00 UhrOrt: Struwwelpeter Museum\, Frankfurt am Main \nAnmeldung: frauen@aba-ev.org
URL:https://aba-ev.org/event/eug-museumsbesuch-im-struwwelpeter-museum/
ATTACH;FMTTYPE=image/jpeg:https://aba-ev.org/wp-content/uploads/2026/04/WhatsApp-Image-2026-04-07-at-21.23.06-1.jpeg
END:VEVENT
BEGIN:VEVENT
DTSTART;TZID=Europe/Berlin:20260424T170000
DTEND;TZID=Europe/Berlin:20260424T190000
DTSTAMP:20260422T005502
CREATED:20260421T203713Z
LAST-MODIFIED:20260421T203713Z
UID:10001455-1777050000-1777057200@aba-ev.org
SUMMARY:Nähcafé Gemeinsam Kreativ
DESCRIPTION:
URL:https://aba-ev.org/event/naehcafe-gemeinsam-kreativ-3/2026-04-24/
LOCATION:Abá e.V.\, Berger Straße 287\, Abá e.V.\, 60385\, Deutschland
ATTACH;FMTTYPE=image/jpeg:https://aba-ev.org/wp-content/uploads/2026/04/WhatsApp-Image-2026-04-13-at-10.53.21.jpeg
ORGANIZER;CN="Ab%C3%A1 e.V.":MAILTO:info@aba-ev.org
END:VEVENT
BEGIN:VEVENT
DTSTART;TZID=Europe/Berlin:20260425T170000
DTEND;TZID=Europe/Berlin:20260425T190000
DTSTAMP:20260422T005502
CREATED:20260421T203713Z
LAST-MODIFIED:20260421T203713Z
UID:10001456-1777136400-1777143600@aba-ev.org
SUMMARY:Nähcafé Gemeinsam Kreativ
DESCRIPTION:
URL:https://aba-ev.org/event/naehcafe-gemeinsam-kreativ-3/2026-04-25/
LOCATION:Abá e.V.\, Berger Straße 287\, Abá e.V.\, 60385\, Deutschland
ATTACH;FMTTYPE=image/jpeg:https://aba-ev.org/wp-content/uploads/2026/04/WhatsApp-Image-2026-04-13-at-10.53.21.jpeg
ORGANIZER;CN="Ab%C3%A1 e.V.":MAILTO:info@aba-ev.org
END:VEVENT
BEGIN:VEVENT
DTSTART;TZID=Europe/Berlin:20260428T170000
DTEND;TZID=Europe/Berlin:20260428T190000
DTSTAMP:20260422T005502
CREATED:20260421T203713Z
LAST-MODIFIED:20260421T203713Z
UID:10001457-1777395600-1777402800@aba-ev.org
SUMMARY:Nähcafé Gemeinsam Kreativ
DESCRIPTION:
URL:https://aba-ev.org/event/naehcafe-gemeinsam-kreativ-3/2026-04-28/
LOCATION:Abá e.V.\, Berger Straße 287\, Abá e.V.\, 60385\, Deutschland
ATTACH;FMTTYPE=image/jpeg:https://aba-ev.org/wp-content/uploads/2026/04/WhatsApp-Image-2026-04-13-at-10.53.21.jpeg
ORGANIZER;CN="Ab%C3%A1 e.V.":MAILTO:info@aba-ev.org
END:VEVENT
BEGIN:VEVENT
DTSTART;TZID=Europe/Berlin:20260429T170000
DTEND;TZID=Europe/Berlin:20260429T190000
DTSTAMP:20260422T005502
CREATED:20260421T203713Z
LAST-MODIFIED:20260421T203713Z
UID:10001458-1777482000-1777489200@aba-ev.org
SUMMARY:Nähcafé Gemeinsam Kreativ
DESCRIPTION:
URL:https://aba-ev.org/event/naehcafe-gemeinsam-kreativ-3/2026-04-29/
LOCATION:Abá e.V.\, Berger Straße 287\, Abá e.V.\, 60385\, Deutschland
ATTACH;FMTTYPE=image/jpeg:https://aba-ev.org/wp-content/uploads/2026/04/WhatsApp-Image-2026-04-13-at-10.53.21.jpeg
ORGANIZER;CN="Ab%C3%A1 e.V.":MAILTO:info@aba-ev.org
END:VEVENT
BEGIN:VEVENT
DTSTART;TZID=Europe/Berlin:20260430T170000
DTEND;TZID=Europe/Berlin:20260430T190000
DTSTAMP:20260422T005502
CREATED:20260421T203713Z
LAST-MODIFIED:20260421T203713Z
UID:10001459-1777568400-1777575600@aba-ev.org
SUMMARY:Nähcafé Gemeinsam Kreativ
DESCRIPTION:
URL:https://aba-ev.org/event/naehcafe-gemeinsam-kreativ-3/2026-04-30/
LOCATION:Abá e.V.\, Berger Straße 287\, Abá e.V.\, 60385\, Deutschland
ATTACH;FMTTYPE=image/jpeg:https://aba-ev.org/wp-content/uploads/2026/04/WhatsApp-Image-2026-04-13-at-10.53.21.jpeg
ORGANIZER;CN="Ab%C3%A1 e.V.":MAILTO:info@aba-ev.org
END:VEVENT
BEGIN:VEVENT
DTSTART;TZID=Europe/Berlin:20260501T170000
DTEND;TZID=Europe/Berlin:20260501T190000
DTSTAMP:20260422T005502
CREATED:20260421T203713Z
LAST-MODIFIED:20260421T203713Z
UID:10001460-1777654800-1777662000@aba-ev.org
SUMMARY:Nähcafé Gemeinsam Kreativ
DESCRIPTION:
URL:https://aba-ev.org/event/naehcafe-gemeinsam-kreativ-3/2026-05-01/
LOCATION:Abá e.V.\, Berger Straße 287\, Abá e.V.\, 60385\, Deutschland
ATTACH;FMTTYPE=image/jpeg:https://aba-ev.org/wp-content/uploads/2026/04/WhatsApp-Image-2026-04-13-at-10.53.21.jpeg
ORGANIZER;CN="Ab%C3%A1 e.V.":MAILTO:info@aba-ev.org
END:VEVENT
BEGIN:VEVENT
DTSTART;TZID=Europe/Berlin:20260502T170000
DTEND;TZID=Europe/Berlin:20260502T190000
DTSTAMP:20260422T005502
CREATED:20260421T203713Z
LAST-MODIFIED:20260421T203713Z
UID:10001461-1777741200-1777748400@aba-ev.org
SUMMARY:Nähcafé Gemeinsam Kreativ
DESCRIPTION:
URL:https://aba-ev.org/event/naehcafe-gemeinsam-kreativ-3/2026-05-02/
LOCATION:Abá e.V.\, Berger Straße 287\, Abá e.V.\, 60385\, Deutschland
ATTACH;FMTTYPE=image/jpeg:https://aba-ev.org/wp-content/uploads/2026/04/WhatsApp-Image-2026-04-13-at-10.53.21.jpeg
ORGANIZER;CN="Ab%C3%A1 e.V.":MAILTO:info@aba-ev.org
END:VEVENT
BEGIN:VEVENT
DTSTART;TZID=Europe/Berlin:20260505T170000
DTEND;TZID=Europe/Berlin:20260505T190000
DTSTAMP:20260422T005502
CREATED:20260421T203713Z
LAST-MODIFIED:20260421T203713Z
UID:10001462-1778000400-1778007600@aba-ev.org
SUMMARY:Nähcafé Gemeinsam Kreativ
DESCRIPTION:
URL:https://aba-ev.org/event/naehcafe-gemeinsam-kreativ-3/2026-05-05/
LOCATION:Abá e.V.\, Berger Straße 287\, Abá e.V.\, 60385\, Deutschland
ATTACH;FMTTYPE=image/jpeg:https://aba-ev.org/wp-content/uploads/2026/04/WhatsApp-Image-2026-04-13-at-10.53.21.jpeg
ORGANIZER;CN="Ab%C3%A1 e.V.":MAILTO:info@aba-ev.org
END:VEVENT
BEGIN:VEVENT
DTSTART;TZID=Europe/Berlin:20260506T170000
DTEND;TZID=Europe/Berlin:20260506T190000
DTSTAMP:20260422T005502
CREATED:20260421T203713Z
LAST-MODIFIED:20260421T203713Z
UID:10001463-1778086800-1778094000@aba-ev.org
SUMMARY:Nähcafé Gemeinsam Kreativ
DESCRIPTION:
URL:https://aba-ev.org/event/naehcafe-gemeinsam-kreativ-3/2026-05-06/
LOCATION:Abá e.V.\, Berger Straße 287\, Abá e.V.\, 60385\, Deutschland
ATTACH;FMTTYPE=image/jpeg:https://aba-ev.org/wp-content/uploads/2026/04/WhatsApp-Image-2026-04-13-at-10.53.21.jpeg
ORGANIZER;CN="Ab%C3%A1 e.V.":MAILTO:info@aba-ev.org
END:VEVENT
BEGIN:VEVENT
DTSTART;TZID=Europe/Berlin:20260507T170000
DTEND;TZID=Europe/Berlin:20260507T190000
DTSTAMP:20260422T005502
CREATED:20260421T203713Z
LAST-MODIFIED:20260421T203713Z
UID:10001464-1778173200-1778180400@aba-ev.org
SUMMARY:Nähcafé Gemeinsam Kreativ
DESCRIPTION:
URL:https://aba-ev.org/event/naehcafe-gemeinsam-kreativ-3/2026-05-07/
LOCATION:Abá e.V.\, Berger Straße 287\, Abá e.V.\, 60385\, Deutschland
ATTACH;FMTTYPE=image/jpeg:https://aba-ev.org/wp-content/uploads/2026/04/WhatsApp-Image-2026-04-13-at-10.53.21.jpeg
ORGANIZER;CN="Ab%C3%A1 e.V.":MAILTO:info@aba-ev.org
END:VEVENT
BEGIN:VEVENT
DTSTART;TZID=Europe/Berlin:20260508T170000
DTEND;TZID=Europe/Berlin:20260508T190000
DTSTAMP:20260422T005502
CREATED:20260421T203713Z
LAST-MODIFIED:20260421T203713Z
UID:10001465-1778259600-1778266800@aba-ev.org
SUMMARY:Nähcafé Gemeinsam Kreativ
DESCRIPTION:
URL:https://aba-ev.org/event/naehcafe-gemeinsam-kreativ-3/2026-05-08/
LOCATION:Abá e.V.\, Berger Straße 287\, Abá e.V.\, 60385\, Deutschland
ATTACH;FMTTYPE=image/jpeg:https://aba-ev.org/wp-content/uploads/2026/04/WhatsApp-Image-2026-04-13-at-10.53.21.jpeg
ORGANIZER;CN="Ab%C3%A1 e.V.":MAILTO:info@aba-ev.org
END:VEVENT
BEGIN:VEVENT
DTSTART;TZID=Europe/Berlin:20260509T170000
DTEND;TZID=Europe/Berlin:20260509T190000
DTSTAMP:20260422T005502
CREATED:20260421T203713Z
LAST-MODIFIED:20260421T203713Z
UID:10001466-1778346000-1778353200@aba-ev.org
SUMMARY:Nähcafé Gemeinsam Kreativ
DESCRIPTION:
URL:https://aba-ev.org/event/naehcafe-gemeinsam-kreativ-3/2026-05-09/
LOCATION:Abá e.V.\, Berger Straße 287\, Abá e.V.\, 60385\, Deutschland
ATTACH;FMTTYPE=image/jpeg:https://aba-ev.org/wp-content/uploads/2026/04/WhatsApp-Image-2026-04-13-at-10.53.21.jpeg
ORGANIZER;CN="Ab%C3%A1 e.V.":MAILTO:info@aba-ev.org
END:VEVENT
BEGIN:VEVENT
DTSTART;TZID=Europe/Berlin:20260512T170000
DTEND;TZID=Europe/Berlin:20260512T190000
DTSTAMP:20260422T005502
CREATED:20260421T203713Z
LAST-MODIFIED:20260421T203713Z
UID:10001467-1778605200-1778612400@aba-ev.org
SUMMARY:Nähcafé Gemeinsam Kreativ
DESCRIPTION:
URL:https://aba-ev.org/event/naehcafe-gemeinsam-kreativ-3/2026-05-12/
LOCATION:Abá e.V.\, Berger Straße 287\, Abá e.V.\, 60385\, Deutschland
ATTACH;FMTTYPE=image/jpeg:https://aba-ev.org/wp-content/uploads/2026/04/WhatsApp-Image-2026-04-13-at-10.53.21.jpeg
ORGANIZER;CN="Ab%C3%A1 e.V.":MAILTO:info@aba-ev.org
END:VEVENT
BEGIN:VEVENT
DTSTART;TZID=Europe/Berlin:20260513T170000
DTEND;TZID=Europe/Berlin:20260513T190000
DTSTAMP:20260422T005502
CREATED:20260421T203713Z
LAST-MODIFIED:20260421T203713Z
UID:10001468-1778691600-1778698800@aba-ev.org
SUMMARY:Nähcafé Gemeinsam Kreativ
DESCRIPTION:
URL:https://aba-ev.org/event/naehcafe-gemeinsam-kreativ-3/2026-05-13/
LOCATION:Abá e.V.\, Berger Straße 287\, Abá e.V.\, 60385\, Deutschland
ATTACH;FMTTYPE=image/jpeg:https://aba-ev.org/wp-content/uploads/2026/04/WhatsApp-Image-2026-04-13-at-10.53.21.jpeg
ORGANIZER;CN="Ab%C3%A1 e.V.":MAILTO:info@aba-ev.org
END:VEVENT
BEGIN:VEVENT
DTSTART;TZID=Europe/Berlin:20260514T170000
DTEND;TZID=Europe/Berlin:20260514T190000
DTSTAMP:20260422T005502
CREATED:20260421T203713Z
LAST-MODIFIED:20260421T203713Z
UID:10001469-1778778000-1778785200@aba-ev.org
SUMMARY:Nähcafé Gemeinsam Kreativ
DESCRIPTION:
URL:https://aba-ev.org/event/naehcafe-gemeinsam-kreativ-3/2026-05-14/
LOCATION:Abá e.V.\, Berger Straße 287\, Abá e.V.\, 60385\, Deutschland
ATTACH;FMTTYPE=image/jpeg:https://aba-ev.org/wp-content/uploads/2026/04/WhatsApp-Image-2026-04-13-at-10.53.21.jpeg
ORGANIZER;CN="Ab%C3%A1 e.V.":MAILTO:info@aba-ev.org
END:VEVENT
BEGIN:VEVENT
DTSTART;TZID=Europe/Berlin:20260515T170000
DTEND;TZID=Europe/Berlin:20260515T190000
DTSTAMP:20260422T005502
CREATED:20260421T203713Z
LAST-MODIFIED:20260421T203713Z
UID:10001470-1778864400-1778871600@aba-ev.org
SUMMARY:Nähcafé Gemeinsam Kreativ
DESCRIPTION:
URL:https://aba-ev.org/event/naehcafe-gemeinsam-kreativ-3/2026-05-15/
LOCATION:Abá e.V.\, Berger Straße 287\, Abá e.V.\, 60385\, Deutschland
ATTACH;FMTTYPE=image/jpeg:https://aba-ev.org/wp-content/uploads/2026/04/WhatsApp-Image-2026-04-13-at-10.53.21.jpeg
ORGANIZER;CN="Ab%C3%A1 e.V.":MAILTO:info@aba-ev.org
END:VEVENT
BEGIN:VEVENT
DTSTART;TZID=Europe/Berlin:20260516T170000
DTEND;TZID=Europe/Berlin:20260516T190000
DTSTAMP:20260422T005502
CREATED:20260421T203713Z
LAST-MODIFIED:20260421T203713Z
UID:10001471-1778950800-1778958000@aba-ev.org
SUMMARY:Nähcafé Gemeinsam Kreativ
DESCRIPTION:
URL:https://aba-ev.org/event/naehcafe-gemeinsam-kreativ-3/2026-05-16/
LOCATION:Abá e.V.\, Berger Straße 287\, Abá e.V.\, 60385\, Deutschland
ATTACH;FMTTYPE=image/jpeg:https://aba-ev.org/wp-content/uploads/2026/04/WhatsApp-Image-2026-04-13-at-10.53.21.jpeg
ORGANIZER;CN="Ab%C3%A1 e.V.":MAILTO:info@aba-ev.org
END:VEVENT
BEGIN:VEVENT
DTSTART;TZID=Europe/Berlin:20260519T170000
DTEND;TZID=Europe/Berlin:20260519T190000
DTSTAMP:20260422T005502
CREATED:20260421T203713Z
LAST-MODIFIED:20260421T203713Z
UID:10001472-1779210000-1779217200@aba-ev.org
SUMMARY:Nähcafé Gemeinsam Kreativ
DESCRIPTION:
URL:https://aba-ev.org/event/naehcafe-gemeinsam-kreativ-3/2026-05-19/
LOCATION:Abá e.V.\, Berger Straße 287\, Abá e.V.\, 60385\, Deutschland
ATTACH;FMTTYPE=image/jpeg:https://aba-ev.org/wp-content/uploads/2026/04/WhatsApp-Image-2026-04-13-at-10.53.21.jpeg
ORGANIZER;CN="Ab%C3%A1 e.V.":MAILTO:info@aba-ev.org
END:VEVENT
BEGIN:VEVENT
DTSTART;TZID=Europe/Berlin:20260520T170000
DTEND;TZID=Europe/Berlin:20260520T190000
DTSTAMP:20260422T005502
CREATED:20260421T203713Z
LAST-MODIFIED:20260421T203713Z
UID:10001473-1779296400-1779303600@aba-ev.org
SUMMARY:Nähcafé Gemeinsam Kreativ
DESCRIPTION:
URL:https://aba-ev.org/event/naehcafe-gemeinsam-kreativ-3/2026-05-20/
LOCATION:Abá e.V.\, Berger Straße 287\, Abá e.V.\, 60385\, Deutschland
ATTACH;FMTTYPE=image/jpeg:https://aba-ev.org/wp-content/uploads/2026/04/WhatsApp-Image-2026-04-13-at-10.53.21.jpeg
ORGANIZER;CN="Ab%C3%A1 e.V.":MAILTO:info@aba-ev.org
END:VEVENT
BEGIN:VEVENT
DTSTART;TZID=Europe/Berlin:20260521T170000
DTEND;TZID=Europe/Berlin:20260521T190000
DTSTAMP:20260422T005502
CREATED:20260421T203713Z
LAST-MODIFIED:20260421T203713Z
UID:10001474-1779382800-1779390000@aba-ev.org
SUMMARY:Nähcafé Gemeinsam Kreativ
DESCRIPTION:
URL:https://aba-ev.org/event/naehcafe-gemeinsam-kreativ-3/2026-05-21/
LOCATION:Abá e.V.\, Berger Straße 287\, Abá e.V.\, 60385\, Deutschland
ATTACH;FMTTYPE=image/jpeg:https://aba-ev.org/wp-content/uploads/2026/04/WhatsApp-Image-2026-04-13-at-10.53.21.jpeg
ORGANIZER;CN="Ab%C3%A1 e.V.":MAILTO:info@aba-ev.org
END:VEVENT
BEGIN:VEVENT
DTSTART;TZID=Europe/Berlin:20260522T170000
DTEND;TZID=Europe/Berlin:20260522T190000
DTSTAMP:20260422T005502
CREATED:20260421T203713Z
LAST-MODIFIED:20260421T203713Z
UID:10001475-1779469200-1779476400@aba-ev.org
SUMMARY:Nähcafé Gemeinsam Kreativ
DESCRIPTION:
URL:https://aba-ev.org/event/naehcafe-gemeinsam-kreativ-3/2026-05-22/
LOCATION:Abá e.V.\, Berger Straße 287\, Abá e.V.\, 60385\, Deutschland
ATTACH;FMTTYPE=image/jpeg:https://aba-ev.org/wp-content/uploads/2026/04/WhatsApp-Image-2026-04-13-at-10.53.21.jpeg
ORGANIZER;CN="Ab%C3%A1 e.V.":MAILTO:info@aba-ev.org
END:VEVENT
BEGIN:VEVENT
DTSTART;TZID=Europe/Berlin:20260523T170000
DTEND;TZID=Europe/Berlin:20260523T190000
DTSTAMP:20260422T005502
CREATED:20260421T203713Z
LAST-MODIFIED:20260421T203713Z
UID:10001476-1779555600-1779562800@aba-ev.org
SUMMARY:Nähcafé Gemeinsam Kreativ
DESCRIPTION:
URL:https://aba-ev.org/event/naehcafe-gemeinsam-kreativ-3/2026-05-23/
LOCATION:Abá e.V.\, Berger Straße 287\, Abá e.V.\, 60385\, Deutschland
ATTACH;FMTTYPE=image/jpeg:https://aba-ev.org/wp-content/uploads/2026/04/WhatsApp-Image-2026-04-13-at-10.53.21.jpeg
ORGANIZER;CN="Ab%C3%A1 e.V.":MAILTO:info@aba-ev.org
END:VEVENT
BEGIN:VEVENT
DTSTART;TZID=Europe/Berlin:20260526T170000
DTEND;TZID=Europe/Berlin:20260526T190000
DTSTAMP:20260422T005502
CREATED:20260421T203713Z
LAST-MODIFIED:20260421T203713Z
UID:10001477-1779814800-1779822000@aba-ev.org
SUMMARY:Nähcafé Gemeinsam Kreativ
DESCRIPTION:
URL:https://aba-ev.org/event/naehcafe-gemeinsam-kreativ-3/2026-05-26/
LOCATION:Abá e.V.\, Berger Straße 287\, Abá e.V.\, 60385\, Deutschland
ATTACH;FMTTYPE=image/jpeg:https://aba-ev.org/wp-content/uploads/2026/04/WhatsApp-Image-2026-04-13-at-10.53.21.jpeg
ORGANIZER;CN="Ab%C3%A1 e.V.":MAILTO:info@aba-ev.org
END:VEVENT
BEGIN:VEVENT
DTSTART;TZID=Europe/Berlin:20260527T170000
DTEND;TZID=Europe/Berlin:20260527T190000
DTSTAMP:20260422T005502
CREATED:20260421T203713Z
LAST-MODIFIED:20260421T203713Z
UID:10001478-1779901200-1779908400@aba-ev.org
SUMMARY:Nähcafé Gemeinsam Kreativ
DESCRIPTION:
URL:https://aba-ev.org/event/naehcafe-gemeinsam-kreativ-3/2026-05-27/
LOCATION:Abá e.V.\, Berger Straße 287\, Abá e.V.\, 60385\, Deutschland
ATTACH;FMTTYPE=image/jpeg:https://aba-ev.org/wp-content/uploads/2026/04/WhatsApp-Image-2026-04-13-at-10.53.21.jpeg
ORGANIZER;CN="Ab%C3%A1 e.V.":MAILTO:info@aba-ev.org
END:VEVENT
BEGIN:VEVENT
DTSTART;TZID=Europe/Berlin:20260528T170000
DTEND;TZID=Europe/Berlin:20260528T190000
DTSTAMP:20260422T005502
CREATED:20260421T203713Z
LAST-MODIFIED:20260421T203713Z
UID:10001479-1779987600-1779994800@aba-ev.org
SUMMARY:Nähcafé Gemeinsam Kreativ
DESCRIPTION:
URL:https://aba-ev.org/event/naehcafe-gemeinsam-kreativ-3/2026-05-28/
LOCATION:Abá e.V.\, Berger Straße 287\, Abá e.V.\, 60385\, Deutschland
ATTACH;FMTTYPE=image/jpeg:https://aba-ev.org/wp-content/uploads/2026/04/WhatsApp-Image-2026-04-13-at-10.53.21.jpeg
ORGANIZER;CN="Ab%C3%A1 e.V.":MAILTO:info@aba-ev.org
END:VEVENT
BEGIN:VEVENT
DTSTART;TZID=Europe/Berlin:20260529T170000
DTEND;TZID=Europe/Berlin:20260529T190000
DTSTAMP:20260422T005502
CREATED:20260421T203713Z
LAST-MODIFIED:20260421T203713Z
UID:10001480-1780074000-1780081200@aba-ev.org
SUMMARY:Nähcafé Gemeinsam Kreativ
DESCRIPTION:
URL:https://aba-ev.org/event/naehcafe-gemeinsam-kreativ-3/2026-05-29/
LOCATION:Abá e.V.\, Berger Straße 287\, Abá e.V.\, 60385\, Deutschland
ATTACH;FMTTYPE=image/jpeg:https://aba-ev.org/wp-content/uploads/2026/04/WhatsApp-Image-2026-04-13-at-10.53.21.jpeg
ORGANIZER;CN="Ab%C3%A1 e.V.":MAILTO:info@aba-ev.org
END:VEVENT
BEGIN:VEVENT
DTSTART;TZID=Europe/Berlin:20260530T170000
DTEND;TZID=Europe/Berlin:20260530T190000
DTSTAMP:20260422T005502
CREATED:20260421T203713Z
LAST-MODIFIED:20260421T203713Z
UID:10001481-1780160400-1780167600@aba-ev.org
SUMMARY:Nähcafé Gemeinsam Kreativ
DESCRIPTION:
URL:https://aba-ev.org/event/naehcafe-gemeinsam-kreativ-3/2026-05-30/
LOCATION:Abá e.V.\, Berger Straße 287\, Abá e.V.\, 60385\, Deutschland
ATTACH;FMTTYPE=image/jpeg:https://aba-ev.org/wp-content/uploads/2026/04/WhatsApp-Image-2026-04-13-at-10.53.21.jpeg
ORGANIZER;CN="Ab%C3%A1 e.V.":MAILTO:info@aba-ev.org
END:VEVENT
BEGIN:VEVENT
DTSTART;TZID=Europe/Berlin:20260602T170000
DTEND;TZID=Europe/Berlin:20260602T190000
DTSTAMP:20260422T005502
CREATED:20260421T203713Z
LAST-MODIFIED:20260421T203713Z
UID:10001482-1780419600-1780426800@aba-ev.org
SUMMARY:Nähcafé Gemeinsam Kreativ
DESCRIPTION:
URL:https://aba-ev.org/event/naehcafe-gemeinsam-kreativ-3/2026-06-02/
LOCATION:Abá e.V.\, Berger Straße 287\, Abá e.V.\, 60385\, Deutschland
ATTACH;FMTTYPE=image/jpeg:https://aba-ev.org/wp-content/uploads/2026/04/WhatsApp-Image-2026-04-13-at-10.53.21.jpeg
ORGANIZER;CN="Ab%C3%A1 e.V.":MAILTO:info@aba-ev.org
END:VEVENT
BEGIN:VEVENT
DTSTART;TZID=Europe/Berlin:20260603T170000
DTEND;TZID=Europe/Berlin:20260603T190000
DTSTAMP:20260422T005502
CREATED:20260421T203713Z
LAST-MODIFIED:20260421T203713Z
UID:10001483-1780506000-1780513200@aba-ev.org
SUMMARY:Nähcafé Gemeinsam Kreativ
DESCRIPTION:
URL:https://aba-ev.org/event/naehcafe-gemeinsam-kreativ-3/2026-06-03/
LOCATION:Abá e.V.\, Berger Straße 287\, Abá e.V.\, 60385\, Deutschland
ATTACH;FMTTYPE=image/jpeg:https://aba-ev.org/wp-content/uploads/2026/04/WhatsApp-Image-2026-04-13-at-10.53.21.jpeg
ORGANIZER;CN="Ab%C3%A1 e.V.":MAILTO:info@aba-ev.org
END:VEVENT
END:VCALENDAR