BEGIN:VCALENDAR
VERSION:2.0
PRODID:-//Abá e.V. aba-ev.org - ECPv6.15.12.2//NONSGML v1.0//EN
CALSCALE:GREGORIAN
METHOD:PUBLISH
X-WR-CALNAME:Abá e.V. aba-ev.org
X-ORIGINAL-URL:https://aba-ev.org
X-WR-CALDESC:Veranstaltungen für Abá e.V. aba-ev.org
REFRESH-INTERVAL;VALUE=DURATION:PT1H
X-Robots-Tag:noindex
X-PUBLISHED-TTL:PT1H
BEGIN:VTIMEZONE
TZID:Europe/Berlin
BEGIN:DAYLIGHT
TZOFFSETFROM:+0100
TZOFFSETTO:+0200
TZNAME:CEST
DTSTART:20240331T010000
END:DAYLIGHT
BEGIN:STANDARD
TZOFFSETFROM:+0200
TZOFFSETTO:+0100
TZNAME:CET
DTSTART:20241027T010000
END:STANDARD
BEGIN:DAYLIGHT
TZOFFSETFROM:+0100
TZOFFSETTO:+0200
TZNAME:CEST
DTSTART:20250330T010000
END:DAYLIGHT
BEGIN:STANDARD
TZOFFSETFROM:+0200
TZOFFSETTO:+0100
TZNAME:CET
DTSTART:20251026T010000
END:STANDARD
BEGIN:DAYLIGHT
TZOFFSETFROM:+0100
TZOFFSETTO:+0200
TZNAME:CEST
DTSTART:20260329T010000
END:DAYLIGHT
BEGIN:STANDARD
TZOFFSETFROM:+0200
TZOFFSETTO:+0100
TZNAME:CET
DTSTART:20261025T010000
END:STANDARD
END:VTIMEZONE
BEGIN:VEVENT
DTSTART;TZID=Europe/Berlin:20251213T110000
DTEND;TZID=Europe/Berlin:20251213T123000
DTSTAMP:20260421T073541
CREATED:20251125T201602Z
LAST-MODIFIED:20251125T211550Z
UID:10001426-1765623600-1765629000@aba-ev.org
SUMMARY:FAMILIEN FÜR DIVERSITÄT: TREFF FÜR ELTERN MIT QUEEREN & TRANS KINDERN UND JUGENDLICHEN
DESCRIPTION:Thema: Coming-out begleiten – wie wir unsere Kinder stark machen können13.12.2025 · 11:00–12:30 UhrAbá e.V. II – Wittelsbacherallee 183\, 60385 Frankfurt am Main \nUnser ElternTreff „Familien für Diversität“ bietet einen geschützten Raum für Eltern und Angehörige von queeren oder trans Kindern und Jugendlichen. Gemeinsam möchten wir Fragen klären\, Ängste abbauen und Wege finden\, wie wir unsere Kinder in ihrem Coming-out bestmöglich stärken können. \nWas erwartet euch?\nAustausch & OrientierungWelche Gefühle und Fragen entstehen bei Kindern und Eltern im Coming-out-Prozess?Wie können wir Sicherheit geben – auch wenn wir selbst unsicher sind?Was hat anderen Familien geholfen?Wir sprechen offen\, respektvoll und wertschätzend über Erfahrungen\, Herausforderungen und Wünsche. \nFachlicher InputMiro Tutzer (QuB – Queer-feministische Beratung und Bildung bei Libs e.V.) gibt Impulse aus der Beratungspraxis und beantwortet Fragen rund um Unterstützungsmöglichkeiten\, Materialien und Netzwerke. \nKreativraum für Kinder & JugendlicheParallel zum Austausch gibt es einen offenen Kreativbereich\, in dem Kinder spielen\, malen und neue Freundschaften knüpfen können. \nGemeinschaft bei Kaffee & KuchenIn einer warmen und einladenden Atmosphäre begegnen wir uns\, tauschen uns aus und stärken einander. \nFür wen?\nFür Eltern und Angehörige von queeren oder trans Kindern und Jugendlichen\, unabhängig davon\, wo sie im Prozess stehen – alle sind willkommen. \nAnmeldung\nfamilienzentrum@aba-ev.org \nWir freuen uns auf ein stärkendes\, offenes und wertschätzendes Miteinander!Gemeinsam schaffen wir unterstützende Räume für Vielfalt und Selbstbestimmung.
URL:https://aba-ev.org/event/familien-fuer-diversitaet-treff-fuer-eltern-mit-queeren-trans-kindern-und-jugendlichen/
LOCATION:Abá e.V.\, Berger Straße 287\, Abá e.V.\, 60385\, Deutschland
CATEGORIES:LSBTIQ*,Menschenrechte,Vortrag
ATTACH;FMTTYPE=image/jpeg:https://aba-ev.org/wp-content/uploads/2025/11/WhatsApp-Image-2025-11-25-at-21.14.30.jpeg
ORGANIZER;CN="Ab%C3%A1 e.V.":MAILTO:info@aba-ev.org
END:VEVENT
END:VCALENDAR