BEGIN:VCALENDAR
VERSION:2.0
PRODID:-//Abá e.V. aba-ev.org - ECPv6.15.12.2//NONSGML v1.0//EN
CALSCALE:GREGORIAN
METHOD:PUBLISH
X-WR-CALNAME:Abá e.V. aba-ev.org
X-ORIGINAL-URL:https://aba-ev.org
X-WR-CALDESC:Veranstaltungen für Abá e.V. aba-ev.org
REFRESH-INTERVAL;VALUE=DURATION:PT1H
X-Robots-Tag:noindex
X-PUBLISHED-TTL:PT1H
BEGIN:VTIMEZONE
TZID:Europe/Berlin
BEGIN:DAYLIGHT
TZOFFSETFROM:+0100
TZOFFSETTO:+0200
TZNAME:CEST
DTSTART:20250330T010000
END:DAYLIGHT
BEGIN:STANDARD
TZOFFSETFROM:+0200
TZOFFSETTO:+0100
TZNAME:CET
DTSTART:20251026T010000
END:STANDARD
BEGIN:DAYLIGHT
TZOFFSETFROM:+0100
TZOFFSETTO:+0200
TZNAME:CEST
DTSTART:20260329T010000
END:DAYLIGHT
BEGIN:STANDARD
TZOFFSETFROM:+0200
TZOFFSETTO:+0100
TZNAME:CET
DTSTART:20261025T010000
END:STANDARD
BEGIN:DAYLIGHT
TZOFFSETFROM:+0100
TZOFFSETTO:+0200
TZNAME:CEST
DTSTART:20270328T010000
END:DAYLIGHT
BEGIN:STANDARD
TZOFFSETFROM:+0200
TZOFFSETTO:+0100
TZNAME:CET
DTSTART:20271031T010000
END:STANDARD
END:VTIMEZONE
BEGIN:VEVENT
DTSTART;TZID=Europe/Berlin:20260804T170000
DTEND;TZID=Europe/Berlin:20260804T190000
DTSTAMP:20260422T004710
CREATED:20260421T203713Z
LAST-MODIFIED:20260421T203713Z
UID:10001527-1785862800-1785870000@aba-ev.org
SUMMARY:Nähcafé Gemeinsam Kreativ
DESCRIPTION:
URL:https://aba-ev.org/event/naehcafe-gemeinsam-kreativ-3/2026-08-04/
LOCATION:Abá e.V.\, Berger Straße 287\, Abá e.V.\, 60385\, Deutschland
ATTACH;FMTTYPE=image/jpeg:https://aba-ev.org/wp-content/uploads/2026/04/WhatsApp-Image-2026-04-13-at-10.53.21.jpeg
ORGANIZER;CN="Ab%C3%A1 e.V.":MAILTO:info@aba-ev.org
END:VEVENT
BEGIN:VEVENT
DTSTART;TZID=Europe/Berlin:20260804T170000
DTEND;TZID=Europe/Berlin:20260804T190000
DTSTAMP:20260422T004710
CREATED:20260421T215216Z
LAST-MODIFIED:20260421T215216Z
UID:10001724-1785862800-1785870000@aba-ev.org
SUMMARY:Kinder-Stationen
DESCRIPTION:
URL:https://aba-ev.org/event/kinder-stationen-4/2026-08-04/
LOCATION:Abá e.V.\, Berger Straße 287\, Abá e.V.\, 60385\, Deutschland
ATTACH;FMTTYPE=image/jpeg:https://aba-ev.org/wp-content/uploads/2026/04/WhatsApp-Image-2026-04-16-at-18.33.05-2.jpeg
ORGANIZER;CN="Ab%C3%A1 e.V.":MAILTO:info@aba-ev.org
END:VEVENT
BEGIN:VEVENT
DTSTART;TZID=Europe/Berlin:20260805T170000
DTEND;TZID=Europe/Berlin:20260805T190000
DTSTAMP:20260422T004710
CREATED:20260421T203713Z
LAST-MODIFIED:20260421T203713Z
UID:10001528-1785949200-1785956400@aba-ev.org
SUMMARY:Nähcafé Gemeinsam Kreativ
DESCRIPTION:
URL:https://aba-ev.org/event/naehcafe-gemeinsam-kreativ-3/2026-08-05/
LOCATION:Abá e.V.\, Berger Straße 287\, Abá e.V.\, 60385\, Deutschland
ATTACH;FMTTYPE=image/jpeg:https://aba-ev.org/wp-content/uploads/2026/04/WhatsApp-Image-2026-04-13-at-10.53.21.jpeg
ORGANIZER;CN="Ab%C3%A1 e.V.":MAILTO:info@aba-ev.org
END:VEVENT
BEGIN:VEVENT
DTSTART;TZID=Europe/Berlin:20260806T170000
DTEND;TZID=Europe/Berlin:20260806T190000
DTSTAMP:20260422T004710
CREATED:20260421T203713Z
LAST-MODIFIED:20260421T203713Z
UID:10001529-1786035600-1786042800@aba-ev.org
SUMMARY:Nähcafé Gemeinsam Kreativ
DESCRIPTION:
URL:https://aba-ev.org/event/naehcafe-gemeinsam-kreativ-3/2026-08-06/
LOCATION:Abá e.V.\, Berger Straße 287\, Abá e.V.\, 60385\, Deutschland
ATTACH;FMTTYPE=image/jpeg:https://aba-ev.org/wp-content/uploads/2026/04/WhatsApp-Image-2026-04-13-at-10.53.21.jpeg
ORGANIZER;CN="Ab%C3%A1 e.V.":MAILTO:info@aba-ev.org
END:VEVENT
BEGIN:VEVENT
DTSTART;TZID=Europe/Berlin:20260807T170000
DTEND;TZID=Europe/Berlin:20260807T190000
DTSTAMP:20260422T004710
CREATED:20260421T203713Z
LAST-MODIFIED:20260421T203713Z
UID:10001530-1786122000-1786129200@aba-ev.org
SUMMARY:Nähcafé Gemeinsam Kreativ
DESCRIPTION:
URL:https://aba-ev.org/event/naehcafe-gemeinsam-kreativ-3/2026-08-07/
LOCATION:Abá e.V.\, Berger Straße 287\, Abá e.V.\, 60385\, Deutschland
ATTACH;FMTTYPE=image/jpeg:https://aba-ev.org/wp-content/uploads/2026/04/WhatsApp-Image-2026-04-13-at-10.53.21.jpeg
ORGANIZER;CN="Ab%C3%A1 e.V.":MAILTO:info@aba-ev.org
END:VEVENT
BEGIN:VEVENT
DTSTART;TZID=Europe/Berlin:20260808T170000
DTEND;TZID=Europe/Berlin:20260808T190000
DTSTAMP:20260422T004710
CREATED:20260421T203713Z
LAST-MODIFIED:20260421T203713Z
UID:10001531-1786208400-1786215600@aba-ev.org
SUMMARY:Nähcafé Gemeinsam Kreativ
DESCRIPTION:
URL:https://aba-ev.org/event/naehcafe-gemeinsam-kreativ-3/2026-08-08/
LOCATION:Abá e.V.\, Berger Straße 287\, Abá e.V.\, 60385\, Deutschland
ATTACH;FMTTYPE=image/jpeg:https://aba-ev.org/wp-content/uploads/2026/04/WhatsApp-Image-2026-04-13-at-10.53.21.jpeg
ORGANIZER;CN="Ab%C3%A1 e.V.":MAILTO:info@aba-ev.org
END:VEVENT
BEGIN:VEVENT
DTSTART;TZID=Europe/Berlin:20260809T170000
DTEND;TZID=Europe/Berlin:20260809T190000
DTSTAMP:20260422T004710
CREATED:20260421T215216Z
LAST-MODIFIED:20260421T215216Z
UID:10001725-1786294800-1786302000@aba-ev.org
SUMMARY:Kinder-Stationen
DESCRIPTION:
URL:https://aba-ev.org/event/kinder-stationen-4/2026-08-09/
LOCATION:Abá e.V.\, Berger Straße 287\, Abá e.V.\, 60385\, Deutschland
ATTACH;FMTTYPE=image/jpeg:https://aba-ev.org/wp-content/uploads/2026/04/WhatsApp-Image-2026-04-16-at-18.33.05-2.jpeg
ORGANIZER;CN="Ab%C3%A1 e.V.":MAILTO:info@aba-ev.org
END:VEVENT
BEGIN:VEVENT
DTSTART;TZID=Europe/Berlin:20260811T170000
DTEND;TZID=Europe/Berlin:20260811T190000
DTSTAMP:20260422T004710
CREATED:20260421T203713Z
LAST-MODIFIED:20260421T203713Z
UID:10001532-1786467600-1786474800@aba-ev.org
SUMMARY:Nähcafé Gemeinsam Kreativ
DESCRIPTION:
URL:https://aba-ev.org/event/naehcafe-gemeinsam-kreativ-3/2026-08-11/
LOCATION:Abá e.V.\, Berger Straße 287\, Abá e.V.\, 60385\, Deutschland
ATTACH;FMTTYPE=image/jpeg:https://aba-ev.org/wp-content/uploads/2026/04/WhatsApp-Image-2026-04-13-at-10.53.21.jpeg
ORGANIZER;CN="Ab%C3%A1 e.V.":MAILTO:info@aba-ev.org
END:VEVENT
BEGIN:VEVENT
DTSTART;TZID=Europe/Berlin:20260811T170000
DTEND;TZID=Europe/Berlin:20260811T190000
DTSTAMP:20260422T004710
CREATED:20260421T215216Z
LAST-MODIFIED:20260421T215216Z
UID:10001726-1786467600-1786474800@aba-ev.org
SUMMARY:Kinder-Stationen
DESCRIPTION:
URL:https://aba-ev.org/event/kinder-stationen-4/2026-08-11/
LOCATION:Abá e.V.\, Berger Straße 287\, Abá e.V.\, 60385\, Deutschland
ATTACH;FMTTYPE=image/jpeg:https://aba-ev.org/wp-content/uploads/2026/04/WhatsApp-Image-2026-04-16-at-18.33.05-2.jpeg
ORGANIZER;CN="Ab%C3%A1 e.V.":MAILTO:info@aba-ev.org
END:VEVENT
BEGIN:VEVENT
DTSTART;TZID=Europe/Berlin:20260812T170000
DTEND;TZID=Europe/Berlin:20260812T190000
DTSTAMP:20260422T004710
CREATED:20260421T203713Z
LAST-MODIFIED:20260421T203713Z
UID:10001533-1786554000-1786561200@aba-ev.org
SUMMARY:Nähcafé Gemeinsam Kreativ
DESCRIPTION:
URL:https://aba-ev.org/event/naehcafe-gemeinsam-kreativ-3/2026-08-12/
LOCATION:Abá e.V.\, Berger Straße 287\, Abá e.V.\, 60385\, Deutschland
ATTACH;FMTTYPE=image/jpeg:https://aba-ev.org/wp-content/uploads/2026/04/WhatsApp-Image-2026-04-13-at-10.53.21.jpeg
ORGANIZER;CN="Ab%C3%A1 e.V.":MAILTO:info@aba-ev.org
END:VEVENT
BEGIN:VEVENT
DTSTART;TZID=Europe/Berlin:20260813T170000
DTEND;TZID=Europe/Berlin:20260813T190000
DTSTAMP:20260422T004710
CREATED:20260421T203713Z
LAST-MODIFIED:20260421T203713Z
UID:10001534-1786640400-1786647600@aba-ev.org
SUMMARY:Nähcafé Gemeinsam Kreativ
DESCRIPTION:
URL:https://aba-ev.org/event/naehcafe-gemeinsam-kreativ-3/2026-08-13/
LOCATION:Abá e.V.\, Berger Straße 287\, Abá e.V.\, 60385\, Deutschland
ATTACH;FMTTYPE=image/jpeg:https://aba-ev.org/wp-content/uploads/2026/04/WhatsApp-Image-2026-04-13-at-10.53.21.jpeg
ORGANIZER;CN="Ab%C3%A1 e.V.":MAILTO:info@aba-ev.org
END:VEVENT
BEGIN:VEVENT
DTSTART;TZID=Europe/Berlin:20260814T170000
DTEND;TZID=Europe/Berlin:20260814T190000
DTSTAMP:20260422T004710
CREATED:20260421T203713Z
LAST-MODIFIED:20260421T203713Z
UID:10001535-1786726800-1786734000@aba-ev.org
SUMMARY:Nähcafé Gemeinsam Kreativ
DESCRIPTION:
URL:https://aba-ev.org/event/naehcafe-gemeinsam-kreativ-3/2026-08-14/
LOCATION:Abá e.V.\, Berger Straße 287\, Abá e.V.\, 60385\, Deutschland
ATTACH;FMTTYPE=image/jpeg:https://aba-ev.org/wp-content/uploads/2026/04/WhatsApp-Image-2026-04-13-at-10.53.21.jpeg
ORGANIZER;CN="Ab%C3%A1 e.V.":MAILTO:info@aba-ev.org
END:VEVENT
BEGIN:VEVENT
DTSTART;TZID=Europe/Berlin:20260815T170000
DTEND;TZID=Europe/Berlin:20260815T190000
DTSTAMP:20260422T004710
CREATED:20260421T203713Z
LAST-MODIFIED:20260421T203713Z
UID:10001536-1786813200-1786820400@aba-ev.org
SUMMARY:Nähcafé Gemeinsam Kreativ
DESCRIPTION:
URL:https://aba-ev.org/event/naehcafe-gemeinsam-kreativ-3/2026-08-15/
LOCATION:Abá e.V.\, Berger Straße 287\, Abá e.V.\, 60385\, Deutschland
ATTACH;FMTTYPE=image/jpeg:https://aba-ev.org/wp-content/uploads/2026/04/WhatsApp-Image-2026-04-13-at-10.53.21.jpeg
ORGANIZER;CN="Ab%C3%A1 e.V.":MAILTO:info@aba-ev.org
END:VEVENT
BEGIN:VEVENT
DTSTART;TZID=Europe/Berlin:20260816T170000
DTEND;TZID=Europe/Berlin:20260816T190000
DTSTAMP:20260422T004710
CREATED:20260421T215216Z
LAST-MODIFIED:20260421T215216Z
UID:10001727-1786899600-1786906800@aba-ev.org
SUMMARY:Kinder-Stationen
DESCRIPTION:
URL:https://aba-ev.org/event/kinder-stationen-4/2026-08-16/
LOCATION:Abá e.V.\, Berger Straße 287\, Abá e.V.\, 60385\, Deutschland
ATTACH;FMTTYPE=image/jpeg:https://aba-ev.org/wp-content/uploads/2026/04/WhatsApp-Image-2026-04-16-at-18.33.05-2.jpeg
ORGANIZER;CN="Ab%C3%A1 e.V.":MAILTO:info@aba-ev.org
END:VEVENT
BEGIN:VEVENT
DTSTART;TZID=Europe/Berlin:20260818T170000
DTEND;TZID=Europe/Berlin:20260818T190000
DTSTAMP:20260422T004710
CREATED:20260421T203713Z
LAST-MODIFIED:20260421T203713Z
UID:10001537-1787072400-1787079600@aba-ev.org
SUMMARY:Nähcafé Gemeinsam Kreativ
DESCRIPTION:
URL:https://aba-ev.org/event/naehcafe-gemeinsam-kreativ-3/2026-08-18/
LOCATION:Abá e.V.\, Berger Straße 287\, Abá e.V.\, 60385\, Deutschland
ATTACH;FMTTYPE=image/jpeg:https://aba-ev.org/wp-content/uploads/2026/04/WhatsApp-Image-2026-04-13-at-10.53.21.jpeg
ORGANIZER;CN="Ab%C3%A1 e.V.":MAILTO:info@aba-ev.org
END:VEVENT
BEGIN:VEVENT
DTSTART;TZID=Europe/Berlin:20260818T170000
DTEND;TZID=Europe/Berlin:20260818T190000
DTSTAMP:20260422T004710
CREATED:20260421T215216Z
LAST-MODIFIED:20260421T215216Z
UID:10001728-1787072400-1787079600@aba-ev.org
SUMMARY:Kinder-Stationen
DESCRIPTION:
URL:https://aba-ev.org/event/kinder-stationen-4/2026-08-18/
LOCATION:Abá e.V.\, Berger Straße 287\, Abá e.V.\, 60385\, Deutschland
ATTACH;FMTTYPE=image/jpeg:https://aba-ev.org/wp-content/uploads/2026/04/WhatsApp-Image-2026-04-16-at-18.33.05-2.jpeg
ORGANIZER;CN="Ab%C3%A1 e.V.":MAILTO:info@aba-ev.org
END:VEVENT
BEGIN:VEVENT
DTSTART;TZID=Europe/Berlin:20260819T170000
DTEND;TZID=Europe/Berlin:20260819T190000
DTSTAMP:20260422T004710
CREATED:20260421T203713Z
LAST-MODIFIED:20260421T203713Z
UID:10001538-1787158800-1787166000@aba-ev.org
SUMMARY:Nähcafé Gemeinsam Kreativ
DESCRIPTION:
URL:https://aba-ev.org/event/naehcafe-gemeinsam-kreativ-3/2026-08-19/
LOCATION:Abá e.V.\, Berger Straße 287\, Abá e.V.\, 60385\, Deutschland
ATTACH;FMTTYPE=image/jpeg:https://aba-ev.org/wp-content/uploads/2026/04/WhatsApp-Image-2026-04-13-at-10.53.21.jpeg
ORGANIZER;CN="Ab%C3%A1 e.V.":MAILTO:info@aba-ev.org
END:VEVENT
BEGIN:VEVENT
DTSTART;TZID=Europe/Berlin:20260820T170000
DTEND;TZID=Europe/Berlin:20260820T190000
DTSTAMP:20260422T004710
CREATED:20260421T203713Z
LAST-MODIFIED:20260421T203713Z
UID:10001539-1787245200-1787252400@aba-ev.org
SUMMARY:Nähcafé Gemeinsam Kreativ
DESCRIPTION:
URL:https://aba-ev.org/event/naehcafe-gemeinsam-kreativ-3/2026-08-20/
LOCATION:Abá e.V.\, Berger Straße 287\, Abá e.V.\, 60385\, Deutschland
ATTACH;FMTTYPE=image/jpeg:https://aba-ev.org/wp-content/uploads/2026/04/WhatsApp-Image-2026-04-13-at-10.53.21.jpeg
ORGANIZER;CN="Ab%C3%A1 e.V.":MAILTO:info@aba-ev.org
END:VEVENT
BEGIN:VEVENT
DTSTART;TZID=Europe/Berlin:20260821T170000
DTEND;TZID=Europe/Berlin:20260821T190000
DTSTAMP:20260422T004710
CREATED:20260421T203713Z
LAST-MODIFIED:20260421T203713Z
UID:10001540-1787331600-1787338800@aba-ev.org
SUMMARY:Nähcafé Gemeinsam Kreativ
DESCRIPTION:
URL:https://aba-ev.org/event/naehcafe-gemeinsam-kreativ-3/2026-08-21/
LOCATION:Abá e.V.\, Berger Straße 287\, Abá e.V.\, 60385\, Deutschland
ATTACH;FMTTYPE=image/jpeg:https://aba-ev.org/wp-content/uploads/2026/04/WhatsApp-Image-2026-04-13-at-10.53.21.jpeg
ORGANIZER;CN="Ab%C3%A1 e.V.":MAILTO:info@aba-ev.org
END:VEVENT
BEGIN:VEVENT
DTSTART;TZID=Europe/Berlin:20260822T170000
DTEND;TZID=Europe/Berlin:20260822T190000
DTSTAMP:20260422T004710
CREATED:20260421T203713Z
LAST-MODIFIED:20260421T203713Z
UID:10001541-1787418000-1787425200@aba-ev.org
SUMMARY:Nähcafé Gemeinsam Kreativ
DESCRIPTION:
URL:https://aba-ev.org/event/naehcafe-gemeinsam-kreativ-3/2026-08-22/
LOCATION:Abá e.V.\, Berger Straße 287\, Abá e.V.\, 60385\, Deutschland
ATTACH;FMTTYPE=image/jpeg:https://aba-ev.org/wp-content/uploads/2026/04/WhatsApp-Image-2026-04-13-at-10.53.21.jpeg
ORGANIZER;CN="Ab%C3%A1 e.V.":MAILTO:info@aba-ev.org
END:VEVENT
BEGIN:VEVENT
DTSTART;TZID=Europe/Berlin:20260823T170000
DTEND;TZID=Europe/Berlin:20260823T190000
DTSTAMP:20260422T004710
CREATED:20260421T215216Z
LAST-MODIFIED:20260421T215216Z
UID:10001729-1787504400-1787511600@aba-ev.org
SUMMARY:Kinder-Stationen
DESCRIPTION:
URL:https://aba-ev.org/event/kinder-stationen-4/2026-08-23/
LOCATION:Abá e.V.\, Berger Straße 287\, Abá e.V.\, 60385\, Deutschland
ATTACH;FMTTYPE=image/jpeg:https://aba-ev.org/wp-content/uploads/2026/04/WhatsApp-Image-2026-04-16-at-18.33.05-2.jpeg
ORGANIZER;CN="Ab%C3%A1 e.V.":MAILTO:info@aba-ev.org
END:VEVENT
BEGIN:VEVENT
DTSTART;TZID=Europe/Berlin:20260825T170000
DTEND;TZID=Europe/Berlin:20260825T190000
DTSTAMP:20260422T004710
CREATED:20260421T203713Z
LAST-MODIFIED:20260421T203713Z
UID:10001542-1787677200-1787684400@aba-ev.org
SUMMARY:Nähcafé Gemeinsam Kreativ
DESCRIPTION:
URL:https://aba-ev.org/event/naehcafe-gemeinsam-kreativ-3/2026-08-25/
LOCATION:Abá e.V.\, Berger Straße 287\, Abá e.V.\, 60385\, Deutschland
ATTACH;FMTTYPE=image/jpeg:https://aba-ev.org/wp-content/uploads/2026/04/WhatsApp-Image-2026-04-13-at-10.53.21.jpeg
ORGANIZER;CN="Ab%C3%A1 e.V.":MAILTO:info@aba-ev.org
END:VEVENT
BEGIN:VEVENT
DTSTART;TZID=Europe/Berlin:20260825T170000
DTEND;TZID=Europe/Berlin:20260825T190000
DTSTAMP:20260422T004710
CREATED:20260421T215216Z
LAST-MODIFIED:20260421T215216Z
UID:10001730-1787677200-1787684400@aba-ev.org
SUMMARY:Kinder-Stationen
DESCRIPTION:
URL:https://aba-ev.org/event/kinder-stationen-4/2026-08-25/
LOCATION:Abá e.V.\, Berger Straße 287\, Abá e.V.\, 60385\, Deutschland
ATTACH;FMTTYPE=image/jpeg:https://aba-ev.org/wp-content/uploads/2026/04/WhatsApp-Image-2026-04-16-at-18.33.05-2.jpeg
ORGANIZER;CN="Ab%C3%A1 e.V.":MAILTO:info@aba-ev.org
END:VEVENT
BEGIN:VEVENT
DTSTART;TZID=Europe/Berlin:20260826T170000
DTEND;TZID=Europe/Berlin:20260826T190000
DTSTAMP:20260422T004710
CREATED:20260421T203713Z
LAST-MODIFIED:20260421T203713Z
UID:10001543-1787763600-1787770800@aba-ev.org
SUMMARY:Nähcafé Gemeinsam Kreativ
DESCRIPTION:
URL:https://aba-ev.org/event/naehcafe-gemeinsam-kreativ-3/2026-08-26/
LOCATION:Abá e.V.\, Berger Straße 287\, Abá e.V.\, 60385\, Deutschland
ATTACH;FMTTYPE=image/jpeg:https://aba-ev.org/wp-content/uploads/2026/04/WhatsApp-Image-2026-04-13-at-10.53.21.jpeg
ORGANIZER;CN="Ab%C3%A1 e.V.":MAILTO:info@aba-ev.org
END:VEVENT
BEGIN:VEVENT
DTSTART;TZID=Europe/Berlin:20260827T170000
DTEND;TZID=Europe/Berlin:20260827T190000
DTSTAMP:20260422T004710
CREATED:20260421T203713Z
LAST-MODIFIED:20260421T203713Z
UID:10001544-1787850000-1787857200@aba-ev.org
SUMMARY:Nähcafé Gemeinsam Kreativ
DESCRIPTION:
URL:https://aba-ev.org/event/naehcafe-gemeinsam-kreativ-3/2026-08-27/
LOCATION:Abá e.V.\, Berger Straße 287\, Abá e.V.\, 60385\, Deutschland
ATTACH;FMTTYPE=image/jpeg:https://aba-ev.org/wp-content/uploads/2026/04/WhatsApp-Image-2026-04-13-at-10.53.21.jpeg
ORGANIZER;CN="Ab%C3%A1 e.V.":MAILTO:info@aba-ev.org
END:VEVENT
BEGIN:VEVENT
DTSTART;TZID=Europe/Berlin:20260828T170000
DTEND;TZID=Europe/Berlin:20260828T190000
DTSTAMP:20260422T004710
CREATED:20260421T203713Z
LAST-MODIFIED:20260421T203713Z
UID:10001545-1787936400-1787943600@aba-ev.org
SUMMARY:Nähcafé Gemeinsam Kreativ
DESCRIPTION:
URL:https://aba-ev.org/event/naehcafe-gemeinsam-kreativ-3/2026-08-28/
LOCATION:Abá e.V.\, Berger Straße 287\, Abá e.V.\, 60385\, Deutschland
ATTACH;FMTTYPE=image/jpeg:https://aba-ev.org/wp-content/uploads/2026/04/WhatsApp-Image-2026-04-13-at-10.53.21.jpeg
ORGANIZER;CN="Ab%C3%A1 e.V.":MAILTO:info@aba-ev.org
END:VEVENT
BEGIN:VEVENT
DTSTART;TZID=Europe/Berlin:20260829T170000
DTEND;TZID=Europe/Berlin:20260829T190000
DTSTAMP:20260422T004710
CREATED:20260421T203713Z
LAST-MODIFIED:20260421T203713Z
UID:10001546-1788022800-1788030000@aba-ev.org
SUMMARY:Nähcafé Gemeinsam Kreativ
DESCRIPTION:
URL:https://aba-ev.org/event/naehcafe-gemeinsam-kreativ-3/2026-08-29/
LOCATION:Abá e.V.\, Berger Straße 287\, Abá e.V.\, 60385\, Deutschland
ATTACH;FMTTYPE=image/jpeg:https://aba-ev.org/wp-content/uploads/2026/04/WhatsApp-Image-2026-04-13-at-10.53.21.jpeg
ORGANIZER;CN="Ab%C3%A1 e.V.":MAILTO:info@aba-ev.org
END:VEVENT
BEGIN:VEVENT
DTSTART;TZID=Europe/Berlin:20260830T170000
DTEND;TZID=Europe/Berlin:20260830T190000
DTSTAMP:20260422T004710
CREATED:20260421T215216Z
LAST-MODIFIED:20260421T215216Z
UID:10001731-1788109200-1788116400@aba-ev.org
SUMMARY:Kinder-Stationen
DESCRIPTION:
URL:https://aba-ev.org/event/kinder-stationen-4/2026-08-30/
LOCATION:Abá e.V.\, Berger Straße 287\, Abá e.V.\, 60385\, Deutschland
ATTACH;FMTTYPE=image/jpeg:https://aba-ev.org/wp-content/uploads/2026/04/WhatsApp-Image-2026-04-16-at-18.33.05-2.jpeg
ORGANIZER;CN="Ab%C3%A1 e.V.":MAILTO:info@aba-ev.org
END:VEVENT
BEGIN:VEVENT
DTSTART;TZID=Europe/Berlin:20260901T170000
DTEND;TZID=Europe/Berlin:20260901T190000
DTSTAMP:20260422T004710
CREATED:20260421T203713Z
LAST-MODIFIED:20260421T203713Z
UID:10001547-1788282000-1788289200@aba-ev.org
SUMMARY:Nähcafé Gemeinsam Kreativ
DESCRIPTION:
URL:https://aba-ev.org/event/naehcafe-gemeinsam-kreativ-3/2026-09-01/
LOCATION:Abá e.V.\, Berger Straße 287\, Abá e.V.\, 60385\, Deutschland
ATTACH;FMTTYPE=image/jpeg:https://aba-ev.org/wp-content/uploads/2026/04/WhatsApp-Image-2026-04-13-at-10.53.21.jpeg
ORGANIZER;CN="Ab%C3%A1 e.V.":MAILTO:info@aba-ev.org
END:VEVENT
BEGIN:VEVENT
DTSTART;TZID=Europe/Berlin:20260901T170000
DTEND;TZID=Europe/Berlin:20260901T190000
DTSTAMP:20260422T004710
CREATED:20260421T215216Z
LAST-MODIFIED:20260421T215216Z
UID:10001732-1788282000-1788289200@aba-ev.org
SUMMARY:Kinder-Stationen
DESCRIPTION:
URL:https://aba-ev.org/event/kinder-stationen-4/2026-09-01/
LOCATION:Abá e.V.\, Berger Straße 287\, Abá e.V.\, 60385\, Deutschland
ATTACH;FMTTYPE=image/jpeg:https://aba-ev.org/wp-content/uploads/2026/04/WhatsApp-Image-2026-04-16-at-18.33.05-2.jpeg
ORGANIZER;CN="Ab%C3%A1 e.V.":MAILTO:info@aba-ev.org
END:VEVENT
END:VCALENDAR