BEGIN:VCALENDAR
VERSION:2.0
PRODID:-//Abá e.V. aba-ev.org - ECPv6.15.12.2//NONSGML v1.0//EN
CALSCALE:GREGORIAN
METHOD:PUBLISH
X-WR-CALNAME:Abá e.V. aba-ev.org
X-ORIGINAL-URL:https://aba-ev.org
X-WR-CALDESC:Veranstaltungen für Abá e.V. aba-ev.org
REFRESH-INTERVAL;VALUE=DURATION:PT1H
X-Robots-Tag:noindex
X-PUBLISHED-TTL:PT1H
BEGIN:VTIMEZONE
TZID:Europe/Berlin
BEGIN:DAYLIGHT
TZOFFSETFROM:+0100
TZOFFSETTO:+0200
TZNAME:CEST
DTSTART:20250330T010000
END:DAYLIGHT
BEGIN:STANDARD
TZOFFSETFROM:+0200
TZOFFSETTO:+0100
TZNAME:CET
DTSTART:20251026T010000
END:STANDARD
BEGIN:DAYLIGHT
TZOFFSETFROM:+0100
TZOFFSETTO:+0200
TZNAME:CEST
DTSTART:20260329T010000
END:DAYLIGHT
BEGIN:STANDARD
TZOFFSETFROM:+0200
TZOFFSETTO:+0100
TZNAME:CET
DTSTART:20261025T010000
END:STANDARD
BEGIN:DAYLIGHT
TZOFFSETFROM:+0100
TZOFFSETTO:+0200
TZNAME:CEST
DTSTART:20270328T010000
END:DAYLIGHT
BEGIN:STANDARD
TZOFFSETFROM:+0200
TZOFFSETTO:+0100
TZNAME:CET
DTSTART:20271031T010000
END:STANDARD
END:VTIMEZONE
BEGIN:VEVENT
DTSTART;TZID=Europe/Berlin:20260604T170000
DTEND;TZID=Europe/Berlin:20260604T190000
DTSTAMP:20260422T020208
CREATED:20260421T203713Z
LAST-MODIFIED:20260421T203713Z
UID:10001484-1780592400-1780599600@aba-ev.org
SUMMARY:Nähcafé Gemeinsam Kreativ
DESCRIPTION:
URL:https://aba-ev.org/event/naehcafe-gemeinsam-kreativ-3/2026-06-04/
LOCATION:Abá e.V.\, Berger Straße 287\, Abá e.V.\, 60385\, Deutschland
ATTACH;FMTTYPE=image/jpeg:https://aba-ev.org/wp-content/uploads/2026/04/WhatsApp-Image-2026-04-13-at-10.53.21.jpeg
ORGANIZER;CN="Ab%C3%A1 e.V.":MAILTO:info@aba-ev.org
END:VEVENT
BEGIN:VEVENT
DTSTART;TZID=Europe/Berlin:20260605T170000
DTEND;TZID=Europe/Berlin:20260605T190000
DTSTAMP:20260422T020208
CREATED:20260421T203713Z
LAST-MODIFIED:20260421T203713Z
UID:10001485-1780678800-1780686000@aba-ev.org
SUMMARY:Nähcafé Gemeinsam Kreativ
DESCRIPTION:
URL:https://aba-ev.org/event/naehcafe-gemeinsam-kreativ-3/2026-06-05/
LOCATION:Abá e.V.\, Berger Straße 287\, Abá e.V.\, 60385\, Deutschland
ATTACH;FMTTYPE=image/jpeg:https://aba-ev.org/wp-content/uploads/2026/04/WhatsApp-Image-2026-04-13-at-10.53.21.jpeg
ORGANIZER;CN="Ab%C3%A1 e.V.":MAILTO:info@aba-ev.org
END:VEVENT
BEGIN:VEVENT
DTSTART;TZID=Europe/Berlin:20260606T170000
DTEND;TZID=Europe/Berlin:20260606T190000
DTSTAMP:20260422T020208
CREATED:20260421T203713Z
LAST-MODIFIED:20260421T203713Z
UID:10001486-1780765200-1780772400@aba-ev.org
SUMMARY:Nähcafé Gemeinsam Kreativ
DESCRIPTION:
URL:https://aba-ev.org/event/naehcafe-gemeinsam-kreativ-3/2026-06-06/
LOCATION:Abá e.V.\, Berger Straße 287\, Abá e.V.\, 60385\, Deutschland
ATTACH;FMTTYPE=image/jpeg:https://aba-ev.org/wp-content/uploads/2026/04/WhatsApp-Image-2026-04-13-at-10.53.21.jpeg
ORGANIZER;CN="Ab%C3%A1 e.V.":MAILTO:info@aba-ev.org
END:VEVENT
BEGIN:VEVENT
DTSTART;TZID=Europe/Berlin:20260609T170000
DTEND;TZID=Europe/Berlin:20260609T190000
DTSTAMP:20260422T020208
CREATED:20260421T203713Z
LAST-MODIFIED:20260421T203713Z
UID:10001487-1781024400-1781031600@aba-ev.org
SUMMARY:Nähcafé Gemeinsam Kreativ
DESCRIPTION:
URL:https://aba-ev.org/event/naehcafe-gemeinsam-kreativ-3/2026-06-09/
LOCATION:Abá e.V.\, Berger Straße 287\, Abá e.V.\, 60385\, Deutschland
ATTACH;FMTTYPE=image/jpeg:https://aba-ev.org/wp-content/uploads/2026/04/WhatsApp-Image-2026-04-13-at-10.53.21.jpeg
ORGANIZER;CN="Ab%C3%A1 e.V.":MAILTO:info@aba-ev.org
END:VEVENT
BEGIN:VEVENT
DTSTART;TZID=Europe/Berlin:20260610T170000
DTEND;TZID=Europe/Berlin:20260610T190000
DTSTAMP:20260422T020208
CREATED:20260421T203713Z
LAST-MODIFIED:20260421T203713Z
UID:10001488-1781110800-1781118000@aba-ev.org
SUMMARY:Nähcafé Gemeinsam Kreativ
DESCRIPTION:
URL:https://aba-ev.org/event/naehcafe-gemeinsam-kreativ-3/2026-06-10/
LOCATION:Abá e.V.\, Berger Straße 287\, Abá e.V.\, 60385\, Deutschland
ATTACH;FMTTYPE=image/jpeg:https://aba-ev.org/wp-content/uploads/2026/04/WhatsApp-Image-2026-04-13-at-10.53.21.jpeg
ORGANIZER;CN="Ab%C3%A1 e.V.":MAILTO:info@aba-ev.org
END:VEVENT
BEGIN:VEVENT
DTSTART;TZID=Europe/Berlin:20260611T170000
DTEND;TZID=Europe/Berlin:20260611T190000
DTSTAMP:20260422T020208
CREATED:20260421T203713Z
LAST-MODIFIED:20260421T203713Z
UID:10001489-1781197200-1781204400@aba-ev.org
SUMMARY:Nähcafé Gemeinsam Kreativ
DESCRIPTION:
URL:https://aba-ev.org/event/naehcafe-gemeinsam-kreativ-3/2026-06-11/
LOCATION:Abá e.V.\, Berger Straße 287\, Abá e.V.\, 60385\, Deutschland
ATTACH;FMTTYPE=image/jpeg:https://aba-ev.org/wp-content/uploads/2026/04/WhatsApp-Image-2026-04-13-at-10.53.21.jpeg
ORGANIZER;CN="Ab%C3%A1 e.V.":MAILTO:info@aba-ev.org
END:VEVENT
BEGIN:VEVENT
DTSTART;TZID=Europe/Berlin:20260612T170000
DTEND;TZID=Europe/Berlin:20260612T190000
DTSTAMP:20260422T020208
CREATED:20260421T203713Z
LAST-MODIFIED:20260421T203713Z
UID:10001490-1781283600-1781290800@aba-ev.org
SUMMARY:Nähcafé Gemeinsam Kreativ
DESCRIPTION:
URL:https://aba-ev.org/event/naehcafe-gemeinsam-kreativ-3/2026-06-12/
LOCATION:Abá e.V.\, Berger Straße 287\, Abá e.V.\, 60385\, Deutschland
ATTACH;FMTTYPE=image/jpeg:https://aba-ev.org/wp-content/uploads/2026/04/WhatsApp-Image-2026-04-13-at-10.53.21.jpeg
ORGANIZER;CN="Ab%C3%A1 e.V.":MAILTO:info@aba-ev.org
END:VEVENT
BEGIN:VEVENT
DTSTART;TZID=Europe/Berlin:20260613T170000
DTEND;TZID=Europe/Berlin:20260613T190000
DTSTAMP:20260422T020208
CREATED:20260421T203713Z
LAST-MODIFIED:20260421T203713Z
UID:10001491-1781370000-1781377200@aba-ev.org
SUMMARY:Nähcafé Gemeinsam Kreativ
DESCRIPTION:
URL:https://aba-ev.org/event/naehcafe-gemeinsam-kreativ-3/2026-06-13/
LOCATION:Abá e.V.\, Berger Straße 287\, Abá e.V.\, 60385\, Deutschland
ATTACH;FMTTYPE=image/jpeg:https://aba-ev.org/wp-content/uploads/2026/04/WhatsApp-Image-2026-04-13-at-10.53.21.jpeg
ORGANIZER;CN="Ab%C3%A1 e.V.":MAILTO:info@aba-ev.org
END:VEVENT
BEGIN:VEVENT
DTSTART;TZID=Europe/Berlin:20260616T170000
DTEND;TZID=Europe/Berlin:20260616T190000
DTSTAMP:20260422T020208
CREATED:20260421T203713Z
LAST-MODIFIED:20260421T203713Z
UID:10001492-1781629200-1781636400@aba-ev.org
SUMMARY:Nähcafé Gemeinsam Kreativ
DESCRIPTION:
URL:https://aba-ev.org/event/naehcafe-gemeinsam-kreativ-3/2026-06-16/
LOCATION:Abá e.V.\, Berger Straße 287\, Abá e.V.\, 60385\, Deutschland
ATTACH;FMTTYPE=image/jpeg:https://aba-ev.org/wp-content/uploads/2026/04/WhatsApp-Image-2026-04-13-at-10.53.21.jpeg
ORGANIZER;CN="Ab%C3%A1 e.V.":MAILTO:info@aba-ev.org
END:VEVENT
BEGIN:VEVENT
DTSTART;TZID=Europe/Berlin:20260617T170000
DTEND;TZID=Europe/Berlin:20260617T190000
DTSTAMP:20260422T020208
CREATED:20260421T203713Z
LAST-MODIFIED:20260421T203713Z
UID:10001493-1781715600-1781722800@aba-ev.org
SUMMARY:Nähcafé Gemeinsam Kreativ
DESCRIPTION:
URL:https://aba-ev.org/event/naehcafe-gemeinsam-kreativ-3/2026-06-17/
LOCATION:Abá e.V.\, Berger Straße 287\, Abá e.V.\, 60385\, Deutschland
ATTACH;FMTTYPE=image/jpeg:https://aba-ev.org/wp-content/uploads/2026/04/WhatsApp-Image-2026-04-13-at-10.53.21.jpeg
ORGANIZER;CN="Ab%C3%A1 e.V.":MAILTO:info@aba-ev.org
END:VEVENT
BEGIN:VEVENT
DTSTART;TZID=Europe/Berlin:20260618T170000
DTEND;TZID=Europe/Berlin:20260618T190000
DTSTAMP:20260422T020208
CREATED:20260421T203713Z
LAST-MODIFIED:20260421T203713Z
UID:10001494-1781802000-1781809200@aba-ev.org
SUMMARY:Nähcafé Gemeinsam Kreativ
DESCRIPTION:
URL:https://aba-ev.org/event/naehcafe-gemeinsam-kreativ-3/2026-06-18/
LOCATION:Abá e.V.\, Berger Straße 287\, Abá e.V.\, 60385\, Deutschland
ATTACH;FMTTYPE=image/jpeg:https://aba-ev.org/wp-content/uploads/2026/04/WhatsApp-Image-2026-04-13-at-10.53.21.jpeg
ORGANIZER;CN="Ab%C3%A1 e.V.":MAILTO:info@aba-ev.org
END:VEVENT
BEGIN:VEVENT
DTSTART;TZID=Europe/Berlin:20260619T170000
DTEND;TZID=Europe/Berlin:20260619T190000
DTSTAMP:20260422T020208
CREATED:20260421T203713Z
LAST-MODIFIED:20260421T203713Z
UID:10001495-1781888400-1781895600@aba-ev.org
SUMMARY:Nähcafé Gemeinsam Kreativ
DESCRIPTION:
URL:https://aba-ev.org/event/naehcafe-gemeinsam-kreativ-3/2026-06-19/
LOCATION:Abá e.V.\, Berger Straße 287\, Abá e.V.\, 60385\, Deutschland
ATTACH;FMTTYPE=image/jpeg:https://aba-ev.org/wp-content/uploads/2026/04/WhatsApp-Image-2026-04-13-at-10.53.21.jpeg
ORGANIZER;CN="Ab%C3%A1 e.V.":MAILTO:info@aba-ev.org
END:VEVENT
BEGIN:VEVENT
DTSTART;TZID=Europe/Berlin:20260620T170000
DTEND;TZID=Europe/Berlin:20260620T190000
DTSTAMP:20260422T020208
CREATED:20260421T203713Z
LAST-MODIFIED:20260421T203713Z
UID:10001496-1781974800-1781982000@aba-ev.org
SUMMARY:Nähcafé Gemeinsam Kreativ
DESCRIPTION:
URL:https://aba-ev.org/event/naehcafe-gemeinsam-kreativ-3/2026-06-20/
LOCATION:Abá e.V.\, Berger Straße 287\, Abá e.V.\, 60385\, Deutschland
ATTACH;FMTTYPE=image/jpeg:https://aba-ev.org/wp-content/uploads/2026/04/WhatsApp-Image-2026-04-13-at-10.53.21.jpeg
ORGANIZER;CN="Ab%C3%A1 e.V.":MAILTO:info@aba-ev.org
END:VEVENT
BEGIN:VEVENT
DTSTART;TZID=Europe/Berlin:20260623T170000
DTEND;TZID=Europe/Berlin:20260623T190000
DTSTAMP:20260422T020209
CREATED:20260421T203713Z
LAST-MODIFIED:20260421T203713Z
UID:10001497-1782234000-1782241200@aba-ev.org
SUMMARY:Nähcafé Gemeinsam Kreativ
DESCRIPTION:
URL:https://aba-ev.org/event/naehcafe-gemeinsam-kreativ-3/2026-06-23/
LOCATION:Abá e.V.\, Berger Straße 287\, Abá e.V.\, 60385\, Deutschland
ATTACH;FMTTYPE=image/jpeg:https://aba-ev.org/wp-content/uploads/2026/04/WhatsApp-Image-2026-04-13-at-10.53.21.jpeg
ORGANIZER;CN="Ab%C3%A1 e.V.":MAILTO:info@aba-ev.org
END:VEVENT
BEGIN:VEVENT
DTSTART;TZID=Europe/Berlin:20260624T170000
DTEND;TZID=Europe/Berlin:20260624T190000
DTSTAMP:20260422T020209
CREATED:20260421T203713Z
LAST-MODIFIED:20260421T203713Z
UID:10001498-1782320400-1782327600@aba-ev.org
SUMMARY:Nähcafé Gemeinsam Kreativ
DESCRIPTION:
URL:https://aba-ev.org/event/naehcafe-gemeinsam-kreativ-3/2026-06-24/
LOCATION:Abá e.V.\, Berger Straße 287\, Abá e.V.\, 60385\, Deutschland
ATTACH;FMTTYPE=image/jpeg:https://aba-ev.org/wp-content/uploads/2026/04/WhatsApp-Image-2026-04-13-at-10.53.21.jpeg
ORGANIZER;CN="Ab%C3%A1 e.V.":MAILTO:info@aba-ev.org
END:VEVENT
BEGIN:VEVENT
DTSTART;TZID=Europe/Berlin:20260625T170000
DTEND;TZID=Europe/Berlin:20260625T190000
DTSTAMP:20260422T020209
CREATED:20260421T203713Z
LAST-MODIFIED:20260421T203713Z
UID:10001499-1782406800-1782414000@aba-ev.org
SUMMARY:Nähcafé Gemeinsam Kreativ
DESCRIPTION:
URL:https://aba-ev.org/event/naehcafe-gemeinsam-kreativ-3/2026-06-25/
LOCATION:Abá e.V.\, Berger Straße 287\, Abá e.V.\, 60385\, Deutschland
ATTACH;FMTTYPE=image/jpeg:https://aba-ev.org/wp-content/uploads/2026/04/WhatsApp-Image-2026-04-13-at-10.53.21.jpeg
ORGANIZER;CN="Ab%C3%A1 e.V.":MAILTO:info@aba-ev.org
END:VEVENT
BEGIN:VEVENT
DTSTART;TZID=Europe/Berlin:20260626T170000
DTEND;TZID=Europe/Berlin:20260626T190000
DTSTAMP:20260422T020209
CREATED:20260421T203713Z
LAST-MODIFIED:20260421T203713Z
UID:10001500-1782493200-1782500400@aba-ev.org
SUMMARY:Nähcafé Gemeinsam Kreativ
DESCRIPTION:
URL:https://aba-ev.org/event/naehcafe-gemeinsam-kreativ-3/2026-06-26/
LOCATION:Abá e.V.\, Berger Straße 287\, Abá e.V.\, 60385\, Deutschland
ATTACH;FMTTYPE=image/jpeg:https://aba-ev.org/wp-content/uploads/2026/04/WhatsApp-Image-2026-04-13-at-10.53.21.jpeg
ORGANIZER;CN="Ab%C3%A1 e.V.":MAILTO:info@aba-ev.org
END:VEVENT
BEGIN:VEVENT
DTSTART;TZID=Europe/Berlin:20260627T170000
DTEND;TZID=Europe/Berlin:20260627T190000
DTSTAMP:20260422T020209
CREATED:20260421T203713Z
LAST-MODIFIED:20260421T203713Z
UID:10001501-1782579600-1782586800@aba-ev.org
SUMMARY:Nähcafé Gemeinsam Kreativ
DESCRIPTION:
URL:https://aba-ev.org/event/naehcafe-gemeinsam-kreativ-3/2026-06-27/
LOCATION:Abá e.V.\, Berger Straße 287\, Abá e.V.\, 60385\, Deutschland
ATTACH;FMTTYPE=image/jpeg:https://aba-ev.org/wp-content/uploads/2026/04/WhatsApp-Image-2026-04-13-at-10.53.21.jpeg
ORGANIZER;CN="Ab%C3%A1 e.V.":MAILTO:info@aba-ev.org
END:VEVENT
BEGIN:VEVENT
DTSTART;TZID=Europe/Berlin:20260630T170000
DTEND;TZID=Europe/Berlin:20260630T190000
DTSTAMP:20260422T020209
CREATED:20260421T203713Z
LAST-MODIFIED:20260421T203713Z
UID:10001502-1782838800-1782846000@aba-ev.org
SUMMARY:Nähcafé Gemeinsam Kreativ
DESCRIPTION:
URL:https://aba-ev.org/event/naehcafe-gemeinsam-kreativ-3/2026-06-30/
LOCATION:Abá e.V.\, Berger Straße 287\, Abá e.V.\, 60385\, Deutschland
ATTACH;FMTTYPE=image/jpeg:https://aba-ev.org/wp-content/uploads/2026/04/WhatsApp-Image-2026-04-13-at-10.53.21.jpeg
ORGANIZER;CN="Ab%C3%A1 e.V.":MAILTO:info@aba-ev.org
END:VEVENT
BEGIN:VEVENT
DTSTART;TZID=Europe/Berlin:20260701T170000
DTEND;TZID=Europe/Berlin:20260701T190000
DTSTAMP:20260422T020209
CREATED:20260421T203713Z
LAST-MODIFIED:20260421T203713Z
UID:10001503-1782925200-1782932400@aba-ev.org
SUMMARY:Nähcafé Gemeinsam Kreativ
DESCRIPTION:
URL:https://aba-ev.org/event/naehcafe-gemeinsam-kreativ-3/2026-07-01/
LOCATION:Abá e.V.\, Berger Straße 287\, Abá e.V.\, 60385\, Deutschland
ATTACH;FMTTYPE=image/jpeg:https://aba-ev.org/wp-content/uploads/2026/04/WhatsApp-Image-2026-04-13-at-10.53.21.jpeg
ORGANIZER;CN="Ab%C3%A1 e.V.":MAILTO:info@aba-ev.org
END:VEVENT
BEGIN:VEVENT
DTSTART;TZID=Europe/Berlin:20260702T170000
DTEND;TZID=Europe/Berlin:20260702T190000
DTSTAMP:20260422T020209
CREATED:20260421T203713Z
LAST-MODIFIED:20260421T203713Z
UID:10001504-1783011600-1783018800@aba-ev.org
SUMMARY:Nähcafé Gemeinsam Kreativ
DESCRIPTION:
URL:https://aba-ev.org/event/naehcafe-gemeinsam-kreativ-3/2026-07-02/
LOCATION:Abá e.V.\, Berger Straße 287\, Abá e.V.\, 60385\, Deutschland
ATTACH;FMTTYPE=image/jpeg:https://aba-ev.org/wp-content/uploads/2026/04/WhatsApp-Image-2026-04-13-at-10.53.21.jpeg
ORGANIZER;CN="Ab%C3%A1 e.V.":MAILTO:info@aba-ev.org
END:VEVENT
BEGIN:VEVENT
DTSTART;TZID=Europe/Berlin:20260703T170000
DTEND;TZID=Europe/Berlin:20260703T190000
DTSTAMP:20260422T020209
CREATED:20260421T203713Z
LAST-MODIFIED:20260421T203713Z
UID:10001505-1783098000-1783105200@aba-ev.org
SUMMARY:Nähcafé Gemeinsam Kreativ
DESCRIPTION:
URL:https://aba-ev.org/event/naehcafe-gemeinsam-kreativ-3/2026-07-03/
LOCATION:Abá e.V.\, Berger Straße 287\, Abá e.V.\, 60385\, Deutschland
ATTACH;FMTTYPE=image/jpeg:https://aba-ev.org/wp-content/uploads/2026/04/WhatsApp-Image-2026-04-13-at-10.53.21.jpeg
ORGANIZER;CN="Ab%C3%A1 e.V.":MAILTO:info@aba-ev.org
END:VEVENT
BEGIN:VEVENT
DTSTART;TZID=Europe/Berlin:20260704T170000
DTEND;TZID=Europe/Berlin:20260704T190000
DTSTAMP:20260422T020209
CREATED:20260421T203713Z
LAST-MODIFIED:20260421T203713Z
UID:10001506-1783184400-1783191600@aba-ev.org
SUMMARY:Nähcafé Gemeinsam Kreativ
DESCRIPTION:
URL:https://aba-ev.org/event/naehcafe-gemeinsam-kreativ-3/2026-07-04/
LOCATION:Abá e.V.\, Berger Straße 287\, Abá e.V.\, 60385\, Deutschland
ATTACH;FMTTYPE=image/jpeg:https://aba-ev.org/wp-content/uploads/2026/04/WhatsApp-Image-2026-04-13-at-10.53.21.jpeg
ORGANIZER;CN="Ab%C3%A1 e.V.":MAILTO:info@aba-ev.org
END:VEVENT
BEGIN:VEVENT
DTSTART;TZID=Europe/Berlin:20260707T170000
DTEND;TZID=Europe/Berlin:20260707T190000
DTSTAMP:20260422T020209
CREATED:20260421T203713Z
LAST-MODIFIED:20260421T203713Z
UID:10001507-1783443600-1783450800@aba-ev.org
SUMMARY:Nähcafé Gemeinsam Kreativ
DESCRIPTION:
URL:https://aba-ev.org/event/naehcafe-gemeinsam-kreativ-3/2026-07-07/
LOCATION:Abá e.V.\, Berger Straße 287\, Abá e.V.\, 60385\, Deutschland
ATTACH;FMTTYPE=image/jpeg:https://aba-ev.org/wp-content/uploads/2026/04/WhatsApp-Image-2026-04-13-at-10.53.21.jpeg
ORGANIZER;CN="Ab%C3%A1 e.V.":MAILTO:info@aba-ev.org
END:VEVENT
BEGIN:VEVENT
DTSTART;TZID=Europe/Berlin:20260708T170000
DTEND;TZID=Europe/Berlin:20260708T190000
DTSTAMP:20260422T020209
CREATED:20260421T203713Z
LAST-MODIFIED:20260421T203713Z
UID:10001508-1783530000-1783537200@aba-ev.org
SUMMARY:Nähcafé Gemeinsam Kreativ
DESCRIPTION:
URL:https://aba-ev.org/event/naehcafe-gemeinsam-kreativ-3/2026-07-08/
LOCATION:Abá e.V.\, Berger Straße 287\, Abá e.V.\, 60385\, Deutschland
ATTACH;FMTTYPE=image/jpeg:https://aba-ev.org/wp-content/uploads/2026/04/WhatsApp-Image-2026-04-13-at-10.53.21.jpeg
ORGANIZER;CN="Ab%C3%A1 e.V.":MAILTO:info@aba-ev.org
END:VEVENT
BEGIN:VEVENT
DTSTART;TZID=Europe/Berlin:20260709T170000
DTEND;TZID=Europe/Berlin:20260709T190000
DTSTAMP:20260422T020209
CREATED:20260421T203713Z
LAST-MODIFIED:20260421T203713Z
UID:10001509-1783616400-1783623600@aba-ev.org
SUMMARY:Nähcafé Gemeinsam Kreativ
DESCRIPTION:
URL:https://aba-ev.org/event/naehcafe-gemeinsam-kreativ-3/2026-07-09/
LOCATION:Abá e.V.\, Berger Straße 287\, Abá e.V.\, 60385\, Deutschland
ATTACH;FMTTYPE=image/jpeg:https://aba-ev.org/wp-content/uploads/2026/04/WhatsApp-Image-2026-04-13-at-10.53.21.jpeg
ORGANIZER;CN="Ab%C3%A1 e.V.":MAILTO:info@aba-ev.org
END:VEVENT
BEGIN:VEVENT
DTSTART;TZID=Europe/Berlin:20260710T170000
DTEND;TZID=Europe/Berlin:20260710T190000
DTSTAMP:20260422T020209
CREATED:20260421T203713Z
LAST-MODIFIED:20260421T203713Z
UID:10001510-1783702800-1783710000@aba-ev.org
SUMMARY:Nähcafé Gemeinsam Kreativ
DESCRIPTION:
URL:https://aba-ev.org/event/naehcafe-gemeinsam-kreativ-3/2026-07-10/
LOCATION:Abá e.V.\, Berger Straße 287\, Abá e.V.\, 60385\, Deutschland
ATTACH;FMTTYPE=image/jpeg:https://aba-ev.org/wp-content/uploads/2026/04/WhatsApp-Image-2026-04-13-at-10.53.21.jpeg
ORGANIZER;CN="Ab%C3%A1 e.V.":MAILTO:info@aba-ev.org
END:VEVENT
BEGIN:VEVENT
DTSTART;TZID=Europe/Berlin:20260711T170000
DTEND;TZID=Europe/Berlin:20260711T190000
DTSTAMP:20260422T020209
CREATED:20260421T203713Z
LAST-MODIFIED:20260421T203713Z
UID:10001511-1783789200-1783796400@aba-ev.org
SUMMARY:Nähcafé Gemeinsam Kreativ
DESCRIPTION:
URL:https://aba-ev.org/event/naehcafe-gemeinsam-kreativ-3/2026-07-11/
LOCATION:Abá e.V.\, Berger Straße 287\, Abá e.V.\, 60385\, Deutschland
ATTACH;FMTTYPE=image/jpeg:https://aba-ev.org/wp-content/uploads/2026/04/WhatsApp-Image-2026-04-13-at-10.53.21.jpeg
ORGANIZER;CN="Ab%C3%A1 e.V.":MAILTO:info@aba-ev.org
END:VEVENT
BEGIN:VEVENT
DTSTART;TZID=Europe/Berlin:20260714T170000
DTEND;TZID=Europe/Berlin:20260714T190000
DTSTAMP:20260422T020209
CREATED:20260421T203713Z
LAST-MODIFIED:20260421T203713Z
UID:10001512-1784048400-1784055600@aba-ev.org
SUMMARY:Nähcafé Gemeinsam Kreativ
DESCRIPTION:
URL:https://aba-ev.org/event/naehcafe-gemeinsam-kreativ-3/2026-07-14/
LOCATION:Abá e.V.\, Berger Straße 287\, Abá e.V.\, 60385\, Deutschland
ATTACH;FMTTYPE=image/jpeg:https://aba-ev.org/wp-content/uploads/2026/04/WhatsApp-Image-2026-04-13-at-10.53.21.jpeg
ORGANIZER;CN="Ab%C3%A1 e.V.":MAILTO:info@aba-ev.org
END:VEVENT
BEGIN:VEVENT
DTSTART;TZID=Europe/Berlin:20260715T170000
DTEND;TZID=Europe/Berlin:20260715T190000
DTSTAMP:20260422T020209
CREATED:20260421T203713Z
LAST-MODIFIED:20260421T203713Z
UID:10001513-1784134800-1784142000@aba-ev.org
SUMMARY:Nähcafé Gemeinsam Kreativ
DESCRIPTION:
URL:https://aba-ev.org/event/naehcafe-gemeinsam-kreativ-3/2026-07-15/
LOCATION:Abá e.V.\, Berger Straße 287\, Abá e.V.\, 60385\, Deutschland
ATTACH;FMTTYPE=image/jpeg:https://aba-ev.org/wp-content/uploads/2026/04/WhatsApp-Image-2026-04-13-at-10.53.21.jpeg
ORGANIZER;CN="Ab%C3%A1 e.V.":MAILTO:info@aba-ev.org
END:VEVENT
END:VCALENDAR