BEGIN:VCALENDAR
VERSION:2.0
PRODID:-//Abá e.V. aba-ev.org - ECPv6.15.12.2//NONSGML v1.0//EN
CALSCALE:GREGORIAN
METHOD:PUBLISH
X-WR-CALNAME:Abá e.V. aba-ev.org
X-ORIGINAL-URL:https://aba-ev.org
X-WR-CALDESC:Veranstaltungen für Abá e.V. aba-ev.org
REFRESH-INTERVAL;VALUE=DURATION:PT1H
X-Robots-Tag:noindex
X-PUBLISHED-TTL:PT1H
BEGIN:VTIMEZONE
TZID:Europe/Berlin
BEGIN:DAYLIGHT
TZOFFSETFROM:+0100
TZOFFSETTO:+0200
TZNAME:CEST
DTSTART:20250330T010000
END:DAYLIGHT
BEGIN:STANDARD
TZOFFSETFROM:+0200
TZOFFSETTO:+0100
TZNAME:CET
DTSTART:20251026T010000
END:STANDARD
BEGIN:DAYLIGHT
TZOFFSETFROM:+0100
TZOFFSETTO:+0200
TZNAME:CEST
DTSTART:20260329T010000
END:DAYLIGHT
BEGIN:STANDARD
TZOFFSETFROM:+0200
TZOFFSETTO:+0100
TZNAME:CET
DTSTART:20261025T010000
END:STANDARD
BEGIN:DAYLIGHT
TZOFFSETFROM:+0100
TZOFFSETTO:+0200
TZNAME:CEST
DTSTART:20270328T010000
END:DAYLIGHT
BEGIN:STANDARD
TZOFFSETFROM:+0200
TZOFFSETTO:+0100
TZNAME:CET
DTSTART:20271031T010000
END:STANDARD
END:VTIMEZONE
BEGIN:VEVENT
DTSTART;TZID=Europe/Berlin:20260707T170000
DTEND;TZID=Europe/Berlin:20260707T190000
DTSTAMP:20260422T020143
CREATED:20260421T203713Z
LAST-MODIFIED:20260421T203713Z
UID:10001507-1783443600-1783450800@aba-ev.org
SUMMARY:Nähcafé Gemeinsam Kreativ
DESCRIPTION:
URL:https://aba-ev.org/event/naehcafe-gemeinsam-kreativ-3/2026-07-07/
LOCATION:Abá e.V.\, Berger Straße 287\, Abá e.V.\, 60385\, Deutschland
ATTACH;FMTTYPE=image/jpeg:https://aba-ev.org/wp-content/uploads/2026/04/WhatsApp-Image-2026-04-13-at-10.53.21.jpeg
ORGANIZER;CN="Ab%C3%A1 e.V.":MAILTO:info@aba-ev.org
END:VEVENT
BEGIN:VEVENT
DTSTART;TZID=Europe/Berlin:20260708T170000
DTEND;TZID=Europe/Berlin:20260708T190000
DTSTAMP:20260422T020143
CREATED:20260421T203713Z
LAST-MODIFIED:20260421T203713Z
UID:10001508-1783530000-1783537200@aba-ev.org
SUMMARY:Nähcafé Gemeinsam Kreativ
DESCRIPTION:
URL:https://aba-ev.org/event/naehcafe-gemeinsam-kreativ-3/2026-07-08/
LOCATION:Abá e.V.\, Berger Straße 287\, Abá e.V.\, 60385\, Deutschland
ATTACH;FMTTYPE=image/jpeg:https://aba-ev.org/wp-content/uploads/2026/04/WhatsApp-Image-2026-04-13-at-10.53.21.jpeg
ORGANIZER;CN="Ab%C3%A1 e.V.":MAILTO:info@aba-ev.org
END:VEVENT
BEGIN:VEVENT
DTSTART;TZID=Europe/Berlin:20260709T170000
DTEND;TZID=Europe/Berlin:20260709T190000
DTSTAMP:20260422T020143
CREATED:20260421T203713Z
LAST-MODIFIED:20260421T203713Z
UID:10001509-1783616400-1783623600@aba-ev.org
SUMMARY:Nähcafé Gemeinsam Kreativ
DESCRIPTION:
URL:https://aba-ev.org/event/naehcafe-gemeinsam-kreativ-3/2026-07-09/
LOCATION:Abá e.V.\, Berger Straße 287\, Abá e.V.\, 60385\, Deutschland
ATTACH;FMTTYPE=image/jpeg:https://aba-ev.org/wp-content/uploads/2026/04/WhatsApp-Image-2026-04-13-at-10.53.21.jpeg
ORGANIZER;CN="Ab%C3%A1 e.V.":MAILTO:info@aba-ev.org
END:VEVENT
BEGIN:VEVENT
DTSTART;TZID=Europe/Berlin:20260710T170000
DTEND;TZID=Europe/Berlin:20260710T190000
DTSTAMP:20260422T020143
CREATED:20260421T203713Z
LAST-MODIFIED:20260421T203713Z
UID:10001510-1783702800-1783710000@aba-ev.org
SUMMARY:Nähcafé Gemeinsam Kreativ
DESCRIPTION:
URL:https://aba-ev.org/event/naehcafe-gemeinsam-kreativ-3/2026-07-10/
LOCATION:Abá e.V.\, Berger Straße 287\, Abá e.V.\, 60385\, Deutschland
ATTACH;FMTTYPE=image/jpeg:https://aba-ev.org/wp-content/uploads/2026/04/WhatsApp-Image-2026-04-13-at-10.53.21.jpeg
ORGANIZER;CN="Ab%C3%A1 e.V.":MAILTO:info@aba-ev.org
END:VEVENT
BEGIN:VEVENT
DTSTART;TZID=Europe/Berlin:20260711T170000
DTEND;TZID=Europe/Berlin:20260711T190000
DTSTAMP:20260422T020143
CREATED:20260421T203713Z
LAST-MODIFIED:20260421T203713Z
UID:10001511-1783789200-1783796400@aba-ev.org
SUMMARY:Nähcafé Gemeinsam Kreativ
DESCRIPTION:
URL:https://aba-ev.org/event/naehcafe-gemeinsam-kreativ-3/2026-07-11/
LOCATION:Abá e.V.\, Berger Straße 287\, Abá e.V.\, 60385\, Deutschland
ATTACH;FMTTYPE=image/jpeg:https://aba-ev.org/wp-content/uploads/2026/04/WhatsApp-Image-2026-04-13-at-10.53.21.jpeg
ORGANIZER;CN="Ab%C3%A1 e.V.":MAILTO:info@aba-ev.org
END:VEVENT
BEGIN:VEVENT
DTSTART;TZID=Europe/Berlin:20260714T170000
DTEND;TZID=Europe/Berlin:20260714T190000
DTSTAMP:20260422T020143
CREATED:20260421T203713Z
LAST-MODIFIED:20260421T203713Z
UID:10001512-1784048400-1784055600@aba-ev.org
SUMMARY:Nähcafé Gemeinsam Kreativ
DESCRIPTION:
URL:https://aba-ev.org/event/naehcafe-gemeinsam-kreativ-3/2026-07-14/
LOCATION:Abá e.V.\, Berger Straße 287\, Abá e.V.\, 60385\, Deutschland
ATTACH;FMTTYPE=image/jpeg:https://aba-ev.org/wp-content/uploads/2026/04/WhatsApp-Image-2026-04-13-at-10.53.21.jpeg
ORGANIZER;CN="Ab%C3%A1 e.V.":MAILTO:info@aba-ev.org
END:VEVENT
BEGIN:VEVENT
DTSTART;TZID=Europe/Berlin:20260715T170000
DTEND;TZID=Europe/Berlin:20260715T190000
DTSTAMP:20260422T020143
CREATED:20260421T203713Z
LAST-MODIFIED:20260421T203713Z
UID:10001513-1784134800-1784142000@aba-ev.org
SUMMARY:Nähcafé Gemeinsam Kreativ
DESCRIPTION:
URL:https://aba-ev.org/event/naehcafe-gemeinsam-kreativ-3/2026-07-15/
LOCATION:Abá e.V.\, Berger Straße 287\, Abá e.V.\, 60385\, Deutschland
ATTACH;FMTTYPE=image/jpeg:https://aba-ev.org/wp-content/uploads/2026/04/WhatsApp-Image-2026-04-13-at-10.53.21.jpeg
ORGANIZER;CN="Ab%C3%A1 e.V.":MAILTO:info@aba-ev.org
END:VEVENT
BEGIN:VEVENT
DTSTART;TZID=Europe/Berlin:20260716T170000
DTEND;TZID=Europe/Berlin:20260716T190000
DTSTAMP:20260422T020143
CREATED:20260421T203713Z
LAST-MODIFIED:20260421T203713Z
UID:10001514-1784221200-1784228400@aba-ev.org
SUMMARY:Nähcafé Gemeinsam Kreativ
DESCRIPTION:
URL:https://aba-ev.org/event/naehcafe-gemeinsam-kreativ-3/2026-07-16/
LOCATION:Abá e.V.\, Berger Straße 287\, Abá e.V.\, 60385\, Deutschland
ATTACH;FMTTYPE=image/jpeg:https://aba-ev.org/wp-content/uploads/2026/04/WhatsApp-Image-2026-04-13-at-10.53.21.jpeg
ORGANIZER;CN="Ab%C3%A1 e.V.":MAILTO:info@aba-ev.org
END:VEVENT
BEGIN:VEVENT
DTSTART;TZID=Europe/Berlin:20260717T170000
DTEND;TZID=Europe/Berlin:20260717T190000
DTSTAMP:20260422T020143
CREATED:20260421T203713Z
LAST-MODIFIED:20260421T203713Z
UID:10001515-1784307600-1784314800@aba-ev.org
SUMMARY:Nähcafé Gemeinsam Kreativ
DESCRIPTION:
URL:https://aba-ev.org/event/naehcafe-gemeinsam-kreativ-3/2026-07-17/
LOCATION:Abá e.V.\, Berger Straße 287\, Abá e.V.\, 60385\, Deutschland
ATTACH;FMTTYPE=image/jpeg:https://aba-ev.org/wp-content/uploads/2026/04/WhatsApp-Image-2026-04-13-at-10.53.21.jpeg
ORGANIZER;CN="Ab%C3%A1 e.V.":MAILTO:info@aba-ev.org
END:VEVENT
BEGIN:VEVENT
DTSTART;TZID=Europe/Berlin:20260718T170000
DTEND;TZID=Europe/Berlin:20260718T190000
DTSTAMP:20260422T020143
CREATED:20260421T203713Z
LAST-MODIFIED:20260421T203713Z
UID:10001516-1784394000-1784401200@aba-ev.org
SUMMARY:Nähcafé Gemeinsam Kreativ
DESCRIPTION:
URL:https://aba-ev.org/event/naehcafe-gemeinsam-kreativ-3/2026-07-18/
LOCATION:Abá e.V.\, Berger Straße 287\, Abá e.V.\, 60385\, Deutschland
ATTACH;FMTTYPE=image/jpeg:https://aba-ev.org/wp-content/uploads/2026/04/WhatsApp-Image-2026-04-13-at-10.53.21.jpeg
ORGANIZER;CN="Ab%C3%A1 e.V.":MAILTO:info@aba-ev.org
END:VEVENT
BEGIN:VEVENT
DTSTART;TZID=Europe/Berlin:20260719T170000
DTEND;TZID=Europe/Berlin:20260719T190000
DTSTAMP:20260422T020143
CREATED:20260421T215216Z
LAST-MODIFIED:20260421T215216Z
UID:10001719-1784480400-1784487600@aba-ev.org
SUMMARY:Kinder-Stationen
DESCRIPTION:
URL:https://aba-ev.org/event/kinder-stationen-4/2026-07-19/
LOCATION:Abá e.V.\, Berger Straße 287\, Abá e.V.\, 60385\, Deutschland
ATTACH;FMTTYPE=image/jpeg:https://aba-ev.org/wp-content/uploads/2026/04/WhatsApp-Image-2026-04-16-at-18.33.05-2.jpeg
ORGANIZER;CN="Ab%C3%A1 e.V.":MAILTO:info@aba-ev.org
END:VEVENT
BEGIN:VEVENT
DTSTART;TZID=Europe/Berlin:20260721T170000
DTEND;TZID=Europe/Berlin:20260721T190000
DTSTAMP:20260422T020143
CREATED:20260421T203713Z
LAST-MODIFIED:20260421T203713Z
UID:10001517-1784653200-1784660400@aba-ev.org
SUMMARY:Nähcafé Gemeinsam Kreativ
DESCRIPTION:
URL:https://aba-ev.org/event/naehcafe-gemeinsam-kreativ-3/2026-07-21/
LOCATION:Abá e.V.\, Berger Straße 287\, Abá e.V.\, 60385\, Deutschland
ATTACH;FMTTYPE=image/jpeg:https://aba-ev.org/wp-content/uploads/2026/04/WhatsApp-Image-2026-04-13-at-10.53.21.jpeg
ORGANIZER;CN="Ab%C3%A1 e.V.":MAILTO:info@aba-ev.org
END:VEVENT
BEGIN:VEVENT
DTSTART;TZID=Europe/Berlin:20260721T170000
DTEND;TZID=Europe/Berlin:20260721T190000
DTSTAMP:20260422T020143
CREATED:20260421T215216Z
LAST-MODIFIED:20260421T215216Z
UID:10001720-1784653200-1784660400@aba-ev.org
SUMMARY:Kinder-Stationen
DESCRIPTION:
URL:https://aba-ev.org/event/kinder-stationen-4/2026-07-21/
LOCATION:Abá e.V.\, Berger Straße 287\, Abá e.V.\, 60385\, Deutschland
ATTACH;FMTTYPE=image/jpeg:https://aba-ev.org/wp-content/uploads/2026/04/WhatsApp-Image-2026-04-16-at-18.33.05-2.jpeg
ORGANIZER;CN="Ab%C3%A1 e.V.":MAILTO:info@aba-ev.org
END:VEVENT
BEGIN:VEVENT
DTSTART;TZID=Europe/Berlin:20260722T170000
DTEND;TZID=Europe/Berlin:20260722T190000
DTSTAMP:20260422T020143
CREATED:20260421T203713Z
LAST-MODIFIED:20260421T203713Z
UID:10001518-1784739600-1784746800@aba-ev.org
SUMMARY:Nähcafé Gemeinsam Kreativ
DESCRIPTION:
URL:https://aba-ev.org/event/naehcafe-gemeinsam-kreativ-3/2026-07-22/
LOCATION:Abá e.V.\, Berger Straße 287\, Abá e.V.\, 60385\, Deutschland
ATTACH;FMTTYPE=image/jpeg:https://aba-ev.org/wp-content/uploads/2026/04/WhatsApp-Image-2026-04-13-at-10.53.21.jpeg
ORGANIZER;CN="Ab%C3%A1 e.V.":MAILTO:info@aba-ev.org
END:VEVENT
BEGIN:VEVENT
DTSTART;TZID=Europe/Berlin:20260723T170000
DTEND;TZID=Europe/Berlin:20260723T190000
DTSTAMP:20260422T020143
CREATED:20260421T203713Z
LAST-MODIFIED:20260421T203713Z
UID:10001519-1784826000-1784833200@aba-ev.org
SUMMARY:Nähcafé Gemeinsam Kreativ
DESCRIPTION:
URL:https://aba-ev.org/event/naehcafe-gemeinsam-kreativ-3/2026-07-23/
LOCATION:Abá e.V.\, Berger Straße 287\, Abá e.V.\, 60385\, Deutschland
ATTACH;FMTTYPE=image/jpeg:https://aba-ev.org/wp-content/uploads/2026/04/WhatsApp-Image-2026-04-13-at-10.53.21.jpeg
ORGANIZER;CN="Ab%C3%A1 e.V.":MAILTO:info@aba-ev.org
END:VEVENT
BEGIN:VEVENT
DTSTART;TZID=Europe/Berlin:20260724T170000
DTEND;TZID=Europe/Berlin:20260724T190000
DTSTAMP:20260422T020143
CREATED:20260421T203713Z
LAST-MODIFIED:20260421T203713Z
UID:10001520-1784912400-1784919600@aba-ev.org
SUMMARY:Nähcafé Gemeinsam Kreativ
DESCRIPTION:
URL:https://aba-ev.org/event/naehcafe-gemeinsam-kreativ-3/2026-07-24/
LOCATION:Abá e.V.\, Berger Straße 287\, Abá e.V.\, 60385\, Deutschland
ATTACH;FMTTYPE=image/jpeg:https://aba-ev.org/wp-content/uploads/2026/04/WhatsApp-Image-2026-04-13-at-10.53.21.jpeg
ORGANIZER;CN="Ab%C3%A1 e.V.":MAILTO:info@aba-ev.org
END:VEVENT
BEGIN:VEVENT
DTSTART;TZID=Europe/Berlin:20260725T170000
DTEND;TZID=Europe/Berlin:20260725T190000
DTSTAMP:20260422T020143
CREATED:20260421T203713Z
LAST-MODIFIED:20260421T203713Z
UID:10001521-1784998800-1785006000@aba-ev.org
SUMMARY:Nähcafé Gemeinsam Kreativ
DESCRIPTION:
URL:https://aba-ev.org/event/naehcafe-gemeinsam-kreativ-3/2026-07-25/
LOCATION:Abá e.V.\, Berger Straße 287\, Abá e.V.\, 60385\, Deutschland
ATTACH;FMTTYPE=image/jpeg:https://aba-ev.org/wp-content/uploads/2026/04/WhatsApp-Image-2026-04-13-at-10.53.21.jpeg
ORGANIZER;CN="Ab%C3%A1 e.V.":MAILTO:info@aba-ev.org
END:VEVENT
BEGIN:VEVENT
DTSTART;TZID=Europe/Berlin:20260726T170000
DTEND;TZID=Europe/Berlin:20260726T190000
DTSTAMP:20260422T020143
CREATED:20260421T215216Z
LAST-MODIFIED:20260421T215216Z
UID:10001721-1785085200-1785092400@aba-ev.org
SUMMARY:Kinder-Stationen
DESCRIPTION:
URL:https://aba-ev.org/event/kinder-stationen-4/2026-07-26/
LOCATION:Abá e.V.\, Berger Straße 287\, Abá e.V.\, 60385\, Deutschland
ATTACH;FMTTYPE=image/jpeg:https://aba-ev.org/wp-content/uploads/2026/04/WhatsApp-Image-2026-04-16-at-18.33.05-2.jpeg
ORGANIZER;CN="Ab%C3%A1 e.V.":MAILTO:info@aba-ev.org
END:VEVENT
BEGIN:VEVENT
DTSTART;TZID=Europe/Berlin:20260728T170000
DTEND;TZID=Europe/Berlin:20260728T190000
DTSTAMP:20260422T020143
CREATED:20260421T203713Z
LAST-MODIFIED:20260421T203713Z
UID:10001522-1785258000-1785265200@aba-ev.org
SUMMARY:Nähcafé Gemeinsam Kreativ
DESCRIPTION:
URL:https://aba-ev.org/event/naehcafe-gemeinsam-kreativ-3/2026-07-28/
LOCATION:Abá e.V.\, Berger Straße 287\, Abá e.V.\, 60385\, Deutschland
ATTACH;FMTTYPE=image/jpeg:https://aba-ev.org/wp-content/uploads/2026/04/WhatsApp-Image-2026-04-13-at-10.53.21.jpeg
ORGANIZER;CN="Ab%C3%A1 e.V.":MAILTO:info@aba-ev.org
END:VEVENT
BEGIN:VEVENT
DTSTART;TZID=Europe/Berlin:20260728T170000
DTEND;TZID=Europe/Berlin:20260728T190000
DTSTAMP:20260422T020143
CREATED:20260421T215216Z
LAST-MODIFIED:20260421T215216Z
UID:10001722-1785258000-1785265200@aba-ev.org
SUMMARY:Kinder-Stationen
DESCRIPTION:
URL:https://aba-ev.org/event/kinder-stationen-4/2026-07-28/
LOCATION:Abá e.V.\, Berger Straße 287\, Abá e.V.\, 60385\, Deutschland
ATTACH;FMTTYPE=image/jpeg:https://aba-ev.org/wp-content/uploads/2026/04/WhatsApp-Image-2026-04-16-at-18.33.05-2.jpeg
ORGANIZER;CN="Ab%C3%A1 e.V.":MAILTO:info@aba-ev.org
END:VEVENT
BEGIN:VEVENT
DTSTART;TZID=Europe/Berlin:20260729T170000
DTEND;TZID=Europe/Berlin:20260729T190000
DTSTAMP:20260422T020143
CREATED:20260421T203713Z
LAST-MODIFIED:20260421T203713Z
UID:10001523-1785344400-1785351600@aba-ev.org
SUMMARY:Nähcafé Gemeinsam Kreativ
DESCRIPTION:
URL:https://aba-ev.org/event/naehcafe-gemeinsam-kreativ-3/2026-07-29/
LOCATION:Abá e.V.\, Berger Straße 287\, Abá e.V.\, 60385\, Deutschland
ATTACH;FMTTYPE=image/jpeg:https://aba-ev.org/wp-content/uploads/2026/04/WhatsApp-Image-2026-04-13-at-10.53.21.jpeg
ORGANIZER;CN="Ab%C3%A1 e.V.":MAILTO:info@aba-ev.org
END:VEVENT
BEGIN:VEVENT
DTSTART;TZID=Europe/Berlin:20260730T170000
DTEND;TZID=Europe/Berlin:20260730T190000
DTSTAMP:20260422T020143
CREATED:20260421T203713Z
LAST-MODIFIED:20260421T203713Z
UID:10001524-1785430800-1785438000@aba-ev.org
SUMMARY:Nähcafé Gemeinsam Kreativ
DESCRIPTION:
URL:https://aba-ev.org/event/naehcafe-gemeinsam-kreativ-3/2026-07-30/
LOCATION:Abá e.V.\, Berger Straße 287\, Abá e.V.\, 60385\, Deutschland
ATTACH;FMTTYPE=image/jpeg:https://aba-ev.org/wp-content/uploads/2026/04/WhatsApp-Image-2026-04-13-at-10.53.21.jpeg
ORGANIZER;CN="Ab%C3%A1 e.V.":MAILTO:info@aba-ev.org
END:VEVENT
BEGIN:VEVENT
DTSTART;TZID=Europe/Berlin:20260731T170000
DTEND;TZID=Europe/Berlin:20260731T190000
DTSTAMP:20260422T020143
CREATED:20260421T203713Z
LAST-MODIFIED:20260421T203713Z
UID:10001525-1785517200-1785524400@aba-ev.org
SUMMARY:Nähcafé Gemeinsam Kreativ
DESCRIPTION:
URL:https://aba-ev.org/event/naehcafe-gemeinsam-kreativ-3/2026-07-31/
LOCATION:Abá e.V.\, Berger Straße 287\, Abá e.V.\, 60385\, Deutschland
ATTACH;FMTTYPE=image/jpeg:https://aba-ev.org/wp-content/uploads/2026/04/WhatsApp-Image-2026-04-13-at-10.53.21.jpeg
ORGANIZER;CN="Ab%C3%A1 e.V.":MAILTO:info@aba-ev.org
END:VEVENT
BEGIN:VEVENT
DTSTART;TZID=Europe/Berlin:20260801T170000
DTEND;TZID=Europe/Berlin:20260801T190000
DTSTAMP:20260422T020143
CREATED:20260421T203713Z
LAST-MODIFIED:20260421T203713Z
UID:10001526-1785603600-1785610800@aba-ev.org
SUMMARY:Nähcafé Gemeinsam Kreativ
DESCRIPTION:
URL:https://aba-ev.org/event/naehcafe-gemeinsam-kreativ-3/2026-08-01/
LOCATION:Abá e.V.\, Berger Straße 287\, Abá e.V.\, 60385\, Deutschland
ATTACH;FMTTYPE=image/jpeg:https://aba-ev.org/wp-content/uploads/2026/04/WhatsApp-Image-2026-04-13-at-10.53.21.jpeg
ORGANIZER;CN="Ab%C3%A1 e.V.":MAILTO:info@aba-ev.org
END:VEVENT
BEGIN:VEVENT
DTSTART;TZID=Europe/Berlin:20260802T170000
DTEND;TZID=Europe/Berlin:20260802T190000
DTSTAMP:20260422T020143
CREATED:20260421T215216Z
LAST-MODIFIED:20260421T215216Z
UID:10001723-1785690000-1785697200@aba-ev.org
SUMMARY:Kinder-Stationen
DESCRIPTION:
URL:https://aba-ev.org/event/kinder-stationen-4/2026-08-02/
LOCATION:Abá e.V.\, Berger Straße 287\, Abá e.V.\, 60385\, Deutschland
ATTACH;FMTTYPE=image/jpeg:https://aba-ev.org/wp-content/uploads/2026/04/WhatsApp-Image-2026-04-16-at-18.33.05-2.jpeg
ORGANIZER;CN="Ab%C3%A1 e.V.":MAILTO:info@aba-ev.org
END:VEVENT
BEGIN:VEVENT
DTSTART;TZID=Europe/Berlin:20260804T170000
DTEND;TZID=Europe/Berlin:20260804T190000
DTSTAMP:20260422T020143
CREATED:20260421T203713Z
LAST-MODIFIED:20260421T203713Z
UID:10001527-1785862800-1785870000@aba-ev.org
SUMMARY:Nähcafé Gemeinsam Kreativ
DESCRIPTION:
URL:https://aba-ev.org/event/naehcafe-gemeinsam-kreativ-3/2026-08-04/
LOCATION:Abá e.V.\, Berger Straße 287\, Abá e.V.\, 60385\, Deutschland
ATTACH;FMTTYPE=image/jpeg:https://aba-ev.org/wp-content/uploads/2026/04/WhatsApp-Image-2026-04-13-at-10.53.21.jpeg
ORGANIZER;CN="Ab%C3%A1 e.V.":MAILTO:info@aba-ev.org
END:VEVENT
BEGIN:VEVENT
DTSTART;TZID=Europe/Berlin:20260804T170000
DTEND;TZID=Europe/Berlin:20260804T190000
DTSTAMP:20260422T020143
CREATED:20260421T215216Z
LAST-MODIFIED:20260421T215216Z
UID:10001724-1785862800-1785870000@aba-ev.org
SUMMARY:Kinder-Stationen
DESCRIPTION:
URL:https://aba-ev.org/event/kinder-stationen-4/2026-08-04/
LOCATION:Abá e.V.\, Berger Straße 287\, Abá e.V.\, 60385\, Deutschland
ATTACH;FMTTYPE=image/jpeg:https://aba-ev.org/wp-content/uploads/2026/04/WhatsApp-Image-2026-04-16-at-18.33.05-2.jpeg
ORGANIZER;CN="Ab%C3%A1 e.V.":MAILTO:info@aba-ev.org
END:VEVENT
BEGIN:VEVENT
DTSTART;TZID=Europe/Berlin:20260805T170000
DTEND;TZID=Europe/Berlin:20260805T190000
DTSTAMP:20260422T020143
CREATED:20260421T203713Z
LAST-MODIFIED:20260421T203713Z
UID:10001528-1785949200-1785956400@aba-ev.org
SUMMARY:Nähcafé Gemeinsam Kreativ
DESCRIPTION:
URL:https://aba-ev.org/event/naehcafe-gemeinsam-kreativ-3/2026-08-05/
LOCATION:Abá e.V.\, Berger Straße 287\, Abá e.V.\, 60385\, Deutschland
ATTACH;FMTTYPE=image/jpeg:https://aba-ev.org/wp-content/uploads/2026/04/WhatsApp-Image-2026-04-13-at-10.53.21.jpeg
ORGANIZER;CN="Ab%C3%A1 e.V.":MAILTO:info@aba-ev.org
END:VEVENT
BEGIN:VEVENT
DTSTART;TZID=Europe/Berlin:20260806T170000
DTEND;TZID=Europe/Berlin:20260806T190000
DTSTAMP:20260422T020143
CREATED:20260421T203713Z
LAST-MODIFIED:20260421T203713Z
UID:10001529-1786035600-1786042800@aba-ev.org
SUMMARY:Nähcafé Gemeinsam Kreativ
DESCRIPTION:
URL:https://aba-ev.org/event/naehcafe-gemeinsam-kreativ-3/2026-08-06/
LOCATION:Abá e.V.\, Berger Straße 287\, Abá e.V.\, 60385\, Deutschland
ATTACH;FMTTYPE=image/jpeg:https://aba-ev.org/wp-content/uploads/2026/04/WhatsApp-Image-2026-04-13-at-10.53.21.jpeg
ORGANIZER;CN="Ab%C3%A1 e.V.":MAILTO:info@aba-ev.org
END:VEVENT
BEGIN:VEVENT
DTSTART;TZID=Europe/Berlin:20260807T170000
DTEND;TZID=Europe/Berlin:20260807T190000
DTSTAMP:20260422T020143
CREATED:20260421T203713Z
LAST-MODIFIED:20260421T203713Z
UID:10001530-1786122000-1786129200@aba-ev.org
SUMMARY:Nähcafé Gemeinsam Kreativ
DESCRIPTION:
URL:https://aba-ev.org/event/naehcafe-gemeinsam-kreativ-3/2026-08-07/
LOCATION:Abá e.V.\, Berger Straße 287\, Abá e.V.\, 60385\, Deutschland
ATTACH;FMTTYPE=image/jpeg:https://aba-ev.org/wp-content/uploads/2026/04/WhatsApp-Image-2026-04-13-at-10.53.21.jpeg
ORGANIZER;CN="Ab%C3%A1 e.V.":MAILTO:info@aba-ev.org
END:VEVENT
END:VCALENDAR